BEGIN:VCALENDAR
VERSION:2.0
PRODID:-//ChamberMaster//Event Calendar 2.0//EN
METHOD:PUBLISH
X-PUBLISHED-TTL:P3D
REFRESH-INTERVAL:P3D
CALSCALE:GREGORIAN
BEGIN:VEVENT
DTSTART:20260906T160000Z
DTEND:20260906T230000Z
X-MICROSOFT-CDO-ALLDAYEVENT:FALSE
SUMMARY:10 Intercultutalfest Hispanic Heritage Month Tacos y Jarritos Fiestas Patrias
DESCRIPTION:Flavor. Culture. Celebration. Intercultural Fest Heritage Month "Tacos & Jarritos Fiestas Patrias" is where traditions come alive and communities come together. Enjoy authentic flavors\, live performances\, and a vibrant atmosphere that celebrates Hispanic heritage with pride\, color\, and joy. This is your invitation to experience culture   not just see it.\n\n\n\nFREE Community Event\n\nFood | Music | Culture | Family Experience\n\n\n\nCelebrate with us. Dance with us. Connect with us.\n\n\n\nFollow us for updates and surprises: Intercultural Fest
X-ALT-DESC;FMTTYPE=text/html:Flavor. Culture. Celebration. Intercultural Fest Heritage Month &ldquo\;Tacos &amp\; Jarritos Fiestas Patrias&rdquo\; is where traditions come alive and communities come together. Enjoy authentic flavors\, live performances\, and a vibrant atmosphere that celebrates Hispanic heritage with pride\, color\, and joy. This is your invitation to experience culture &mdash\; not just see it.<br />\n<br />\nFREE Community Event<br />\nFood | Music | Culture | Family Experience<br />\n<br />\nCelebrate with us. Dance with us. Connect with us.<br />\n<br />\nFollow us for updates and surprises: Intercultural Fest
LOCATION:Downtown Cartersville
UID:e.1202.174054
SEQUENCE:3
DTSTAMP:20260421T213956Z
URL:https://business.cartersvillechamber.com/events/details/10-intercultutalfest-hispanic-heritage-month-tacos-y-jarritos-fiestas-patrias-174054
END:VEVENT

END:VCALENDAR
