BEGIN:VCALENDAR
VERSION:2.0
PRODID:-//ChamberMaster//Event Calendar 2.0//EN
METHOD:PUBLISH
X-PUBLISHED-TTL:P3D
REFRESH-INTERVAL:P3D
CALSCALE:GREGORIAN
BEGIN:VEVENT
DTSTART:20240608T220000Z
DTEND:20240609T030000Z
X-MICROSOFT-CDO-ALLDAYEVENT:FALSE
SUMMARY:2024 Black Excellence Awards
DESCRIPTION:Black Bartow & Love Travels Present\n\n2024 Black Excellence Awards\n\n\n\nSaturday\, June 8th\, 2024\n\nAward Show: 6 - 8 PM\, Gala with Dinner: 8 - 11 PM\n\nSavoy Automobile Museum\n\n3 Savoy Lane\, Cartersville\, GA 30120\n\n\n\nTickets are $100 per person or $1\,200 for a VIP table. Purchase tickets.\n\n\n\nSponsored by: NWGA Minority Business Association\, Walmart Health\, Love Travels\, Pritchard Injury Firm\, Black Bartow\, WBHF\, and Only in Cartersville Bartow.\n\n\n\nView event flyer.
X-ALT-DESC;FMTTYPE=text/html:Black Bartow &amp\; Love Travels Present<br />\n2024 Black Excellence Awards<br />\n<br />\nSaturday\, June 8th\, 2024<br />\nAward Show: 6 - 8 PM\, Gala with Dinner: 8 - 11 PM<br />\nSavoy Automobile Museum<br />\n3 Savoy Lane\, Cartersville\, GA 30120<br />\n<br />\nTickets are $100 per person or $1\,200 for a VIP table. <a href="https://events.eventgroove.com/event/Bartowblackexcellence-91009?redir=1a" target="_blank">Purchase tickets</a>.<br />\n<br />\nSponsored by: NWGA Minority Business Association\, Walmart Health\, Love Travels\, Pritchard Injury Firm\, Black Bartow\, WBHF\, and Only in Cartersville Bartow.<br />\n<br />\n<a href="https://chambermaster.blob.core.windows.net/userfiles/UserFiles/chambers/1202/File/Event_Docs/BlackExcellenceAwards2024.jpg">View event flyer</a>.
LOCATION:Savoy Automobile Museum 3 Savoy Lane Cartersville\, GA 30120
UID:e.1202.165218
SEQUENCE:3
DTSTAMP:20260422T230929Z
URL:https://business.cartersvillechamber.com/events/details/2024-black-excellence-awards-165218
END:VEVENT

END:VCALENDAR
