BEGIN:VCALENDAR
VERSION:2.0
PRODID:-//ChamberMaster//Event Calendar 2.0//EN
METHOD:PUBLISH
X-PUBLISHED-TTL:P3D
REFRESH-INTERVAL:P3D
CALSCALE:GREGORIAN
BEGIN:VEVENT
DTSTART:20240425T230000Z
DTEND:20240426T000000Z
X-MICROSOFT-CDO-ALLDAYEVENT:FALSE
SUMMARY:2024 Cookout Raffle
DESCRIPTION:Cookout Raffle\n\nWin 1 of 3 Prize Bundles featuring over $5\,000 in prizes!\n\n\n\nView prize bundle details below.\n\nYou do not have to be present at the Cookout to win.\n\n\n\nRaffle Prize Ticket Cost\n\n1 for $10  |  5 for $40  | 15 for $100 | 30 for $200\n\n\n\nPurchase Raffle Prize Tickets\n\n \n\nYour raffle prize ticket purchase enters you into the drawing for all prize bundles. Purchase of raffle prize tickets does not include entry into the Cookout event. Purchase Cookout Tickets Here.\n\n\n\nBundle 1 - Treat Your Self!\n\n\n	Morpheus 8 Radio Frequency Microneedling Treatment (Courtesy of Reflections Cosmetic Surgery)\n	$200 Delta Vacations Gift Certificate and Special Gift Pack (Courtesy of Take Time to Travel)\n	4-Hour Home or Office Cleaning (Courtesy of Maid in America)\n	One Night Stay at Sage Cottage (Courtesy of Sage Cottage)\n	One Night Stay at Hilton Garden Inn (Courtesy of Hilton Garden Inn)\n	Oil Change (Courtesy of Main Street Auto)\n\n\n \n\nBundle 2 - Business *Not* As Usual\n\n\n	Barnsley Resort Golf Pass for 2 People (Redeemable for one round of golf) (Courtesy of Barnsley Resort)\n	Woodland Hills Golf Club Golf Pass for 4 People (Redeemable for one round of golf\, Monday-Friday) (Courtesy of Woodland Hills Golf Club)\n	4-Hour Home or Office Cleaning (Courtesy of Maid in America)\n	12-Month Rental of BWS W5 Water Cooler (Courtesy of Business Water Solutions)\n	$100 Amazon Gift Card and Special Gift Pack (Courtesy of LGE Community Credit Union)\n	2 Rome Emperors Baseball Tickets (Good for May 12\, 2024 game) (Courtesy of Family Savings Credit Union)\n	$100 Main Street Auto Service Gift Card (Courtesy of Main Street Auto)\n	Ogio Sly Pack (Courtesy of T-Mobile)\n	Special Gift Pack (Courtesy of Ameris Bank)\n\n\n \n\nBundle 3 - Epic Family Fun\n\n\n	Georgia Aquarium Plush and 4 Admission Tickets (Courtesy of Georgia Aquarium)\n	Booth Western Art Museum Special Gift Pack and 4 Admission Tickets (Courtesy of Booth Western Art Museum)\n	Tellus Science Museum 4 Admission Tickets (Courtesy of Tellus Science Museum)\n	Mission: Escape 4 Admission Tickets (Courtesy of Mission: Escape)\n	Sylvan SAT/ACT Prep Course and $500 in Sylvan Gift Cards (Courtesy of Sylvan Learning Center)\n	Digital Color Caricature (Courtesy of Draw to Go)\n	Nike Utility Speed Backpack (Courtesy of T-Mobile)
X-ALT-DESC;FMTTYPE=text/html:<div style="text-align: center\;">&nbsp\;</div>\n\n<div style="text-align: center\;"><strong><span style="border:none windowtext 1.0pt\;padding:0in\;"><span style="color:#6D6E70\;"><span style="font-family:inherit\,serif\;"><span style="font-size:16.5pt\;">Cookout Raffle</span></span></span></span></strong><br />\n<span style="border:none windowtext 1.0pt\;padding:0in\;"><span style="color:#6D6E70\;"><span style="font-family:inherit\,serif\;"><span style="font-size:12.0pt\;"><strong><em>Win 1 of 3&nbsp\;Prize Bundles featuring over $5\,000 in prizes!</em></strong></span></span></span></span><br />\n<br />\n<strong><span style="border:none windowtext 1.0pt\;padding:0in\;"><span style="color:#6D6E70\;"><span style="font-family:inherit\,serif\;"><span style="font-size:10.5pt\;">View prize bundle details below.</span></span></span></span></strong><br />\n<span style="border:none windowtext 1.0pt\;padding:0in\;"><span style="color:#6D6E70\;"><span style="font-family:inherit\,serif\;"><span style="font-size:10.5pt\;"><em>You do not have to be present at the Cookout to win.</em></span></span></span></span><br />\n<br />\n<strong><span style="border:none windowtext 1.0pt\;padding:0in\;"><span style="color:#6D6E70\;"><span style="font-family:inherit\,serif\;"><span style="font-size:12.0pt\;">Raffle Prize Ticket Cost</span></span></span></span></strong><br />\n<em><span style="border:none windowtext 1.0pt\;padding:0in\;"><span style="color:#6D6E70\;"><span style="font-family:inherit\,serif\;"><span style="font-size:12.0pt\;">1 for $10&nbsp\; |&nbsp\; 5 for $40&nbsp\; |&nbsp\;15 for $100 | 30&nbsp\;for $200</span></span></span></span></em><br />\n<br />\n<span style="color:black\;"><a href="https://cartersvillechamber.chambermaster.com/eventregistration/register/164349" target="_blank"><strong><span style="border:none windowtext 1.0pt\;padding:0in\;"><span style="color:#243751\;"><span style="font-family:inherit\,serif\;"><span style="font-size:16.5pt\;">Purchase Raffle Prize Tickets</span></span></span></span></strong></a></span><br />\n&nbsp\;<br />\n<em><span style="border:none windowtext 1.0pt\;padding:0in\;"><span style="color:#403F42\;"><span style="font-family:inherit\,serif\;"><span style="font-size:10.5pt\;">Your raffle prize ticket purchase enters you into the drawing for all prize bundles. Purchase of raffle prize tickets does not include entry into the Cookout event. </span></span></span></span></em><span style="color:black\;"><a href="https://www.cartersvillechamber.com/events/details/2024-annual-chamber-cookout-162799" target="_blank"><em><span style="border:none windowtext 1.0pt\;padding:0in\;"><span style="color:#243751\;"><span style="font-family:inherit\,serif\;"><span style="font-size:10.5pt\;">Purchase Cookout Tickets Here</span></span></span></span></em></a></span><em><span style="border:none windowtext 1.0pt\;padding:0in\;"><span style="color:#403F42\;"><span style="font-family:inherit\,serif\;"><span style="font-size:10.5pt\;">.</span></span></span></span></em>\n\n<div style="text-align: left\;"><br />\n<strong><span style="border:none windowtext 1.0pt\;padding:0in\;background:white\;"><span style="color:#6D6E70\;"><span style="font-family:inherit\,serif\;"><span style="font-size:12.0pt\;">Bundle 1 - Treat Your Self!</span></span></span></span></strong></div>\n\n<ul>\n	<li style="color: rgb(109\, 110\, 112)\; margin-bottom: 0in\; line-height: normal\; background: white\; vertical-align: baseline\; text-align: left\;"><strong><span style="border:none windowtext 1.0pt\;padding:0in\;"><span style="font-family:inherit\,serif\;"><span style="font-size:10.5pt\;">Morpheus 8 Radio Frequency Microneedling Treatment</span></span></span></strong>&nbsp\;<em><span style="border:none windowtext 1.0pt\;padding:0in\;"><span style="font-family:inherit\,serif\;"><span style="font-size:10.5pt\;">(Courtesy of&nbsp\;Reflections Cosmetic Surgery)</span></span></span></em></li>\n	<li style="color: rgb(109\, 110\, 112)\; margin-bottom: 0in\; line-height: normal\; background: white\; vertical-align: baseline\; text-align: left\;"><strong><span style="border:none windowtext 1.0pt\;padding:0in\;"><span style="font-family:inherit\,serif\;"><span style="font-size:10.5pt\;">$200 Delta Vacations Gift Certificate and Special Gift Pack&nbsp\;</span></span></span></strong><em><span style="border:none windowtext 1.0pt\;padding:0in\;"><span style="font-family:inherit\,serif\;"><span style="font-size:10.5pt\;">(Courtesy of Take Time to Travel)</span></span></span></em></li>\n	<li style="color: rgb(109\, 110\, 112)\; margin-bottom: 0in\; line-height: normal\; background: white\; vertical-align: baseline\; text-align: left\;"><strong><span style="border:none windowtext 1.0pt\;padding:0in\;"><span style="font-family:inherit\,serif\;"><span style="font-size:10.5pt\;">4-Hour Home or Office Cleaning </span></span></span></strong><em><span style="border:none windowtext 1.0pt\;padding:0in\;"><span style="font-family:inherit\,serif\;"><span style="font-size:10.5pt\;">(Courtesy of&nbsp\;Maid in America)</span></span></span></em></li>\n	<li style="color: rgb(109\, 110\, 112)\; margin-bottom: 0in\; line-height: normal\; background: white\; vertical-align: baseline\; text-align: left\;"><strong><span style="border:none windowtext 1.0pt\;padding:0in\;"><span style="font-family:inherit\,serif\;"><span style="font-size:10.5pt\;">One Night Stay at Sage Cottage&nbsp\;</span></span></span></strong><em><span style="border:none windowtext 1.0pt\;padding:0in\;"><span style="font-family:inherit\,serif\;"><span style="font-size:10.5pt\;">(Courtesy of Sage Cottage)</span></span></span></em></li>\n	<li style="color: rgb(109\, 110\, 112)\; margin-bottom: 0in\; line-height: normal\; background: white\; vertical-align: baseline\; text-align: left\;"><strong><span style="border:none windowtext 1.0pt\;padding:0in\;"><span style="font-family:inherit\,serif\;"><span style="font-size:10.5pt\;">One Night Stay at Hilton Garden Inn&nbsp\;</span></span></span></strong><em><span style="border:none windowtext 1.0pt\;padding:0in\;"><span style="font-family:inherit\,serif\;"><span style="font-size:10.5pt\;">(Courtesy of Hilton Garden Inn)</span></span></span></em></li>\n	<li style="color: rgb(109\, 110\, 112)\; margin-bottom: 0in\; line-height: normal\; background: white\; vertical-align: baseline\; text-align: left\;"><strong><span style="border:none windowtext 1.0pt\;padding:0in\;"><span style="font-family:inherit\,serif\;"><span style="font-size:10.5pt\;">Oil Change&nbsp\;</span></span></span></strong><em><span style="border:none windowtext 1.0pt\;padding:0in\;"><span style="font-family:inherit\,serif\;"><span style="font-size:10.5pt\;">(Courtesy of Main Street Auto)</span></span></span></em></li>\n</ul>\n\n<div style="text-align: left\;">&nbsp\;<br />\n<strong><span style="border:none windowtext 1.0pt\;padding:0in\;background:white\;"><span style="color:#6D6E70\;"><span style="font-family:inherit\,serif\;"><span style="font-size:12.0pt\;">Bundle 2 - Business *Not* As Usual</span></span></span></span></strong></div>\n\n<ul>\n	<li style="color: rgb(109\, 110\, 112)\; margin-bottom: 0in\; line-height: normal\; background: white\; vertical-align: baseline\; text-align: left\;"><strong><span style="border:none windowtext 1.0pt\;padding:0in\;"><span style="font-family:inherit\,serif\;"><span style="font-size:10.5pt\;">Barnsley Resort Golf Pass for 2 People</span></span></span></strong><span style="font-family:arial\,sans-serif\;"><span style="font-size:10.5pt\;">&nbsp\;(Redeemable for one round of golf)&nbsp\;</span></span><em><span style="border:none windowtext 1.0pt\;padding:0in\;"><span style="font-family:inherit\,serif\;"><span style="font-size:10.5pt\;">(Courtesy of&nbsp\;Barnsley Resort)</span></span></span></em></li>\n	<li style="color: rgb(109\, 110\, 112)\; margin-bottom: 0in\; line-height: normal\; background: white\; vertical-align: baseline\; text-align: left\;"><span style="border:none windowtext 1.0pt\;padding:0in\;"><span style="font-family:inherit\,serif\;"><span style="font-size:10.5pt\;"><strong>Woodland Hills Golf Club Golf Pass for 4 People </strong>(Redeemable for one round of golf\, Monday-Friday)&nbsp\;<em>(Courtesy of Woodland Hills Golf Club)</em></span></span></span></li>\n	<li style="color: rgb(109\, 110\, 112)\; margin-bottom: 0in\; line-height: normal\; background: white\; vertical-align: baseline\; text-align: left\;"><strong><span style="border:none windowtext 1.0pt\;padding:0in\;"><span style="font-family:inherit\,serif\;"><span style="font-size:10.5pt\;">4-Hour Home or Office Cleaning&nbsp\;</span></span></span></strong><em><span style="border:none windowtext 1.0pt\;padding:0in\;"><span style="font-family:inherit\,serif\;"><span style="font-size:10.5pt\;">(Courtesy of Maid in America)</span></span></span></em></li>\n	<li style="color: rgb(109\, 110\, 112)\; margin-bottom: 0in\; line-height: normal\; background: white\; vertical-align: baseline\; text-align: left\;"><span style="border:none windowtext 1.0pt\;padding:0in\;"><span style="font-family:inherit\,serif\;"><span style="font-size:10.5pt\;"><strong>12-Month Rental of BWS W5 Water Cooler&nbsp\;</strong><em>(Courtesy of Business Water Solutions)</em></span></span></span></li>\n	<li style="color: rgb(109\, 110\, 112)\; margin-bottom: 0in\; line-height: normal\; background: white\; vertical-align: baseline\; text-align: left\;"><strong><span style="border:none windowtext 1.0pt\;padding:0in\;"><span style="font-family:inherit\,serif\;"><span style="font-size:10.5pt\;">$100 Amazon Gift Card and Special Gift Pack&nbsp\;</span></span></span></strong><em><span style="border:none windowtext 1.0pt\;padding:0in\;"><span style="font-family:inherit\,serif\;"><span style="font-size:10.5pt\;">(Courtesy of LGE Community Credit Union)</span></span></span></em></li>\n	<li style="color: rgb(109\, 110\, 112)\; margin-bottom: 0in\; line-height: normal\; background: white\; vertical-align: baseline\; text-align: left\;"><strong><span style="border:none windowtext 1.0pt\;padding:0in\;"><span style="font-family:inherit\,serif\;"><span style="font-size:10.5pt\;">2 Rome Emperors Baseball Tickets </span></span></span></strong><span style="border:none windowtext 1.0pt\;padding:0in\;"><span style="font-family:inherit\,serif\;"><span style="font-size:10.5pt\;">(Good for May 12\, 2024 game)&nbsp\;<em>(Courtesy of Family Savings Credit Union)</em></span></span></span></li>\n	<li style="margin-bottom: 0in\; line-height: normal\; background-image: initial\; background-position: initial\; background-size: initial\; background-repeat: initial\; background-attachment: initial\; background-origin: initial\; background-clip: initial\; vertical-align: baseline\; text-align: left\;"><strong><span style="border: 1pt none windowtext\; padding: 0in\;"><span style="color: rgb(109\, 110\, 112)\;"><span style="font-size: 10.5pt\;">$100 Main Street Auto Service Gift Card&nbsp\;</span></span></span></strong><em><span style="border: 1pt none windowtext\; padding: 0in\;"><span style="color: rgb(109\, 110\, 112)\;"><span style="font-size: 10.5pt\;">(Courtesy of Main Street Auto)</span></span></span></em></li>\n	<li style="color: rgb(109\, 110\, 112)\; margin-bottom: 0in\; line-height: normal\; background: white\; vertical-align: baseline\; text-align: left\;"><strong><span style="border:none windowtext 1.0pt\;padding:0in\;"><span style="font-family:inherit\,serif\;"><span style="font-size:10.5pt\;">Ogio Sly Pack&nbsp\;</span></span></span></strong><em><span style="border:none windowtext 1.0pt\;padding:0in\;"><span style="font-family:inherit\,serif\;"><span style="font-size:10.5pt\;">(Courtesy of T-Mobile)</span></span></span></em></li>\n	<li style="margin-bottom: 0in\; line-height: normal\; background: white\; vertical-align: baseline\; text-align: left\;"><strong><span style="border:none windowtext 1.0pt\;padding:0in\;"><span style="color:#6D6E70\;"><span style="font-family:inherit\,serif\;"><span style="font-size:10.5pt\;">Special Gift Pack&nbsp\;</span></span></span></span></strong><em><span style="border:none windowtext 1.0pt\;padding:0in\;"><span style="color:#6D6E70\;"><span style="font-family:inherit\,serif\;"><span style="font-size:10.5pt\;">(Courtesy of Ameris Bank)</span></span></span></span></em></li>\n</ul>\n\n<div style="text-align: left\;">&nbsp\;<br />\n<strong><span style="border:none windowtext 1.0pt\;padding:0in\;background:white\;"><span style="color:#6D6E70\;"><span style="font-family:inherit\,serif\;"><span style="font-size:12.0pt\;">Bundle 3 - Epic Family Fun</span></span></span></span></strong></div>\n\n<ul>\n	<li style="color: rgb(109\, 110\, 112)\; margin-bottom: 0in\; line-height: normal\; background: white\; vertical-align: baseline\; text-align: left\;"><strong><span style="border:none windowtext 1.0pt\;padding:0in\;"><span style="font-family:inherit\,serif\;"><span style="font-size:10.5pt\;">Georgia Aquarium Plush and 4 Admission Tickets</span></span></span></strong>&nbsp\;<em><span style="border:none windowtext 1.0pt\;padding:0in\;"><span style="font-family:inherit\,serif\;"><span style="font-size:10.5pt\;">(Courtesy of&nbsp\;Georgia Aquarium)</span></span></span></em></li>\n	<li style="color: rgb(109\, 110\, 112)\; margin-bottom: 0in\; line-height: normal\; background: white\; vertical-align: baseline\; text-align: left\;"><strong><span style="border:none windowtext 1.0pt\;padding:0in\;"><span style="font-family:inherit\,serif\;"><span style="font-size:10.5pt\;">Booth Western Art Museum Special Gift Pack and 4 Admission Tickets </span></span></span></strong><em><span style="border:none windowtext 1.0pt\;padding:0in\;"><span style="font-family:inherit\,serif\;"><span style="font-size:10.5pt\;">(Courtesy of Booth Western Art Museum)</span></span></span></em></li>\n	<li style="color: rgb(109\, 110\, 112)\; margin-bottom: 0in\; line-height: normal\; background: white\; vertical-align: baseline\; text-align: left\;"><strong><span style="border:none windowtext 1.0pt\;padding:0in\;"><span style="font-family:inherit\,serif\;"><span style="font-size:10.5pt\;">Tellus Science Museum 4 Admission Tickets </span></span></span></strong><em><span style="border:none windowtext 1.0pt\;padding:0in\;"><span style="font-family:inherit\,serif\;"><span style="font-size:10.5pt\;">(Courtesy of&nbsp\;Tellus Science Museum)</span></span></span></em></li>\n	<li style="color: rgb(109\, 110\, 112)\; margin-bottom: 0in\; line-height: normal\; background: white\; vertical-align: baseline\; text-align: left\;"><strong><span style="border:none windowtext 1.0pt\;padding:0in\;"><span style="font-family:inherit\,serif\;"><span style="font-size:10.5pt\;">Mission: Escape 4 Admission Tickets&nbsp\;</span></span></span></strong><em><span style="border:none windowtext 1.0pt\;padding:0in\;"><span style="font-family:inherit\,serif\;"><span style="font-size:10.5pt\;">(Courtesy of Mission: Escape)</span></span></span></em></li>\n	<li style="color: rgb(109\, 110\, 112)\; margin-bottom: 0in\; line-height: normal\; background: white\; vertical-align: baseline\; text-align: left\;"><strong><span style="border:none windowtext 1.0pt\;padding:0in\;"><span style="font-family:inherit\,serif\;"><span style="font-size:10.5pt\;">Sylvan SAT/ACT Prep Course&nbsp\;and $500 in Sylvan Gift Cards </span></span></span></strong><em><span style="border:none windowtext 1.0pt\;padding:0in\;"><span style="font-family:inherit\,serif\;"><span style="font-size:10.5pt\;">(Courtesy of Sylvan Learning Center)</span></span></span></em></li>\n	<li style="color: rgb(109\, 110\, 112)\; margin-bottom: 0in\; line-height: normal\; background: white\; vertical-align: baseline\; text-align: left\;"><strong><span style="border:none windowtext 1.0pt\;padding:0in\;"><span style="font-family:inherit\,serif\;"><span style="font-size:10.5pt\;">Digital Color Caricature </span></span></span></strong><em><span style="border:none windowtext 1.0pt\;padding:0in\;"><span style="font-family:inherit\,serif\;"><span style="font-size:10.5pt\;">(Courtesy of Draw to Go)</span></span></span></em></li>\n	<li style="color: rgb(109\, 110\, 112)\; margin-bottom: 0in\; line-height: normal\; background: white\; vertical-align: baseline\; text-align: left\;"><strong><span style="border:none windowtext 1.0pt\;padding:0in\;"><span style="font-family:inherit\,serif\;"><span style="font-size:10.5pt\;">Nike Utility Speed Backpack </span></span></span></strong><em><span style="border:none windowtext 1.0pt\;padding:0in\;"><span style="font-family:inherit\,serif\;"><span style="font-size:10.5pt\;">(Courtesy of T-Mobile)</span></span></span></em></li>\n</ul>\n</div>\n
LOCATION:
UID:e.1202.164349
SEQUENCE:3
DTSTAMP:20260423T021300Z
URL:https://business.cartersvillechamber.com/events/details/2024-cookout-raffle-164349
END:VEVENT

END:VCALENDAR
