BEGIN:VCALENDAR
VERSION:2.0
PRODID:-//ChamberMaster//Event Calendar 2.0//EN
METHOD:PUBLISH
X-PUBLISHED-TTL:P3D
REFRESH-INTERVAL:P3D
CALSCALE:GREGORIAN
BEGIN:VEVENT
DTSTART:20241010T130000Z
DTEND:20241010T180000Z
X-MICROSOFT-CDO-ALLDAYEVENT:FALSE
SUMMARY:2024 Human Resources Seminar
DESCRIPTION:Join us for our Annual Human Resources Seminar on October 10th! Get ready for a day filled with insightful discussions\, engaging presentations\, and networking opportunities tailored specifically for HR professionals like you. Whether you're a seasoned HR veteran or just starting out in the industry\, there will be something valuable for everyone.
X-ALT-DESC;FMTTYPE=text/html:Join us for our Annual Human Resources Seminar on October 10th! Get ready for a day filled with insightful discussions\, engaging presentations\, and networking opportunities tailored specifically for HR professionals like you. Whether you&#39\;re a seasoned HR veteran or just starting out in the industry\, there will be something valuable for everyone.
LOCATION:GHC Cartersville Campus
UID:e.1202.165681
SEQUENCE:3
DTSTAMP:20260422T170226Z
URL:https://business.cartersvillechamber.com/events/details/2024-human-resources-seminar-165681
END:VEVENT

END:VCALENDAR
