BEGIN:VCALENDAR
VERSION:2.0
PRODID:-//ChamberMaster//Event Calendar 2.0//EN
METHOD:PUBLISH
X-PUBLISHED-TTL:P3D
REFRESH-INTERVAL:P3D
CALSCALE:GREGORIAN
BEGIN:VEVENT
DTSTART:20250814T130000Z
DTEND:20250814T180000Z
X-MICROSOFT-CDO-ALLDAYEVENT:FALSE
SUMMARY:2025 Human Resources Seminar
DESCRIPTION:2025 Human Resources Seminar
X-ALT-DESC;FMTTYPE=text/html:2025 Human Resources Seminar
LOCATION:GHC Cartersville Campus
UID:e.1202.171075
SEQUENCE:3
DTSTAMP:20260422T032806Z
URL:https://business.cartersvillechamber.com/events/details/2025-human-resources-seminar-171075
END:VEVENT

END:VCALENDAR
