BEGIN:VCALENDAR
VERSION:2.0
PRODID:-//ChamberMaster//Event Calendar 2.0//EN
METHOD:PUBLISH
X-PUBLISHED-TTL:P3D
REFRESH-INTERVAL:P3D
CALSCALE:GREGORIAN
BEGIN:VEVENT
DTSTART:20241007T130000Z
DTEND:20241007T200000Z
X-MICROSOFT-CDO-ALLDAYEVENT:FALSE
SUMMARY:2025 Vision
DESCRIPTION:BIG NEWS!! ATTENTION ALL REALTORS: October 7th\, Join local Real Estate agents from 9 AM to 4 PM at the Chamber of Commerce in Cartersville for Keller Williams Realty Northwest's 2025 Vision: Real Estate Business Planning Clinic! THIS IS HUGE and an incredible opportunity to plan for next year!! This is a can't-miss event\, so make sure to RSVP because spots are limited! And the best part? These events are open to ALL real estate agents for FREE! RSVP today!?? Seatbelts\, everyone we're about to take 2025 by storm! ?? ???? Let's get ready to plan\, execute\, and dominate the year ahead!\n\n\n\nClick to view the event flyer.
X-ALT-DESC;FMTTYPE=text/html:BIG NEWS!! ATTENTION ALL REALTORS: October 7th\, Join local Real Estate agents from 9 AM to 4 PM at the Chamber of Commerce in Cartersville for Keller Williams Realty Northwest&#39\;s 2025 Vision: Real Estate Business Planning Clinic! THIS IS HUGE and an incredible opportunity to plan for next year!! This is a can&rsquo\;t-miss event\, so make sure to RSVP because spots are limited! And the best part? These events are open to ALL real estate agents for FREE! RSVP today!?? Seatbelts\, everyone&mdash\;we&#39\;re about to take 2025 by storm! ?? ???? Let&rsquo\;s get ready to plan\, execute\, and dominate the year ahead!<br />\n<br />\n<a href="https://chambermaster.blob.core.windows.net/userfiles/UserFiles/chambers/1202/File/Event_Docs/KWRealtyNW2025VisionFlyer.pdf" target="_blank">Click to view the event flyer</a>.
LOCATION:Cartersville-Bartow County Chamber of Commerce 122 W. Main Street\, Cartersville\, GA 30120
UID:e.1202.166942
SEQUENCE:3
DTSTAMP:20260422T170012Z
URL:https://business.cartersvillechamber.com/events/details/2025-vision-166942
END:VEVENT

END:VCALENDAR
