BEGIN:VCALENDAR
VERSION:2.0
PRODID:-//ChamberMaster//Event Calendar 2.0//EN
METHOD:PUBLISH
X-PUBLISHED-TTL:P3D
REFRESH-INTERVAL:P3D
CALSCALE:GREGORIAN
BEGIN:VEVENT
DTSTART:20251118T150000Z
DTEND:20251118T170000Z
X-MICROSOFT-CDO-ALLDAYEVENT:FALSE
SUMMARY:"21 Ways to Fund a Non-Profit" Workshop
DESCRIPTION:"How to Fund a Non-Profit" Workshop\n\n\n\nTuesday\, November 18\, 2025\, 10 AM - 12 PM\n\nFee: $10\n\n\n\nNonprofits need every possible dollar to advance their missions\, yet finding these funds can be challenging. This workshop introduces 21 proven funding models that can help you achieve your financial goals.\n\n\n\nWhat You'll Learn:\n\n	Funding Methods: Explore 21 diverse methods for funding a nonprofit.\n	Selection Considerations: Key factors to consider when choosing a funding method.\n	Corporate Giving: Multiple ways corporations contribute to charitable programs.\n	Crowdfunding: Differences between equity\, debt\, and donation-based crowdfunding.\n	State Funding: Identify lesser-known state funding opportunities.\n	Federal Matches: Understand how federal matches and cost reimbursements work.\n	Membership Fees: Differentiate between membership and mandatory fees.\n	Fiscal Sponsors: How fiscal sponsors can assist nonprofits\, small businesses\, and individuals in achieving their missions.\n\n\n\nRegister Online
X-ALT-DESC;FMTTYPE=text/html:<strong>&quot\;How to Fund a Non-Profit&quot\; Workshop<br />\n<br />\nTuesday\, November 18\, 2025\, 10 AM - 12 PM<br />\nFee: $10</strong><br />\n<br />\nNonprofits need every possible dollar to advance their missions\, yet finding these funds can be challenging. This workshop introduces 21 proven funding models that can help you achieve your financial goals.<br />\n<br />\n<strong>What You&rsquo\;ll Learn:</strong>\n<ol>\n	<li>Funding Methods: Explore 21 diverse methods for funding a nonprofit.</li>\n	<li>Selection Considerations: Key factors to consider when choosing a funding method.</li>\n	<li>Corporate Giving: Multiple ways corporations contribute to charitable programs.</li>\n	<li>Crowdfunding: Differences between equity\, debt\, and donation-based crowdfunding.</li>\n	<li>State Funding: Identify lesser-known state funding opportunities.</li>\n	<li>Federal Matches: Understand how federal matches and cost reimbursements work.</li>\n	<li>Membership Fees: Differentiate between membership and mandatory fees.</li>\n	<li>Fiscal Sponsors: How fiscal sponsors can assist nonprofits\, small businesses\, and individuals in achieving their missions.</li>\n</ol>\n<br />\n<a href="https://www.score.org/northmetroatlanta/event/21-ways-fund-a-non-profit-0" target="_blank"><strong>Register Online</strong></a>
LOCATION:Online Workshop
UID:e.1202.171969
SEQUENCE:3
DTSTAMP:20260421T231444Z
URL:https://business.cartersvillechamber.com/events/details/21-ways-to-fund-a-non-profit-workshop-171969
END:VEVENT

END:VCALENDAR
