BEGIN:VCALENDAR
VERSION:2.0
PRODID:-//ChamberMaster//Event Calendar 2.0//EN
METHOD:PUBLISH
X-PUBLISHED-TTL:P3D
REFRESH-INTERVAL:P3D
CALSCALE:GREGORIAN
BEGIN:VEVENT
DTSTART:20251108T150000Z
DTEND:20251108T230000Z
X-MICROSOFT-CDO-ALLDAYEVENT:FALSE
SUMMARY:2nd Annual Kingston Block Party
DESCRIPTION:2nd Annual Kingston Block Party Benefiting Footprints on the Heart\n\nCar & Bike Show\; Craft Vendors\; Food Trucks\; Live Music & Entertainment\n\nThis is a fun\, family-friendly event filled with live music\, food\, shopping\, games\, and community   and it's all for a great cause. All proceeds benefit Footprints on the Heart\, a nonprofit supporting families who've experienced pregnancy and infant loss (www.footprintsontheheart.org and http://www.facebook.com/footprintsontheheart.ga). \n\n  Food Truck Vendor Fee: $75\n\n Craft Vendor Fee: $50\n\nHosted by \n\nCarli Williams\n\nThe Mustard Seed Co.\n\n(706)847-7178\n\nThemustardseedfaithco@outlook.com
X-ALT-DESC;FMTTYPE=text/html:<p><span style="font-family:uictfonttextstylebody">2nd Annual Kingston Block Party Benefiting Footprints on the Heart</span></p>\n\n<p><span style="font-family:uictfonttextstylebody">Car &amp\; Bike Show\; Craft Vendors\; Food Trucks\; Live Music &amp\; Entertainment</span></p>\n\n<p><span style="font-family:uictfonttextstylebody">This is a fun\, family-friendly event filled with live music\, food\, shopping\, games\, and community &mdash\; and it&rsquo\;s all for a great cause. All proceeds benefit Footprints on the Heart\, a nonprofit supporting families who&rsquo\;ve experienced pregnancy and infant loss (<a href="http://www.footprintsontheheart.org">www.footprintsontheheart.org</a>&nbsp\;and&nbsp\;<a href="http://www.facebook.com/footprintsontheheart.ga">http://www.facebook.com/footprintsontheheart.ga</a>).&nbsp\;</span></p>\n\n<p><span style="font-family:uictfonttextstylebody">&bull\;&nbsp\;</span><strong>Food Truck Vendor Fee:</strong><span style="font-family:uictfonttextstylebody">&nbsp\;$75</span></p>\n\n<p><span style="font-family:uictfonttextstylebody">&bull\;</span><strong>Craft Vendor Fee:</strong><span style="font-family:uictfonttextstylebody">&nbsp\;$50</span></p>\n\n<p><span style="font-family:uictfonttextstylebody">Hosted by&nbsp\;</span></p>\n\n<p><span style="font-family:uictfonttextstylebody">Carli Williams</span></p>\n\n<p><span style="font-family:uictfonttextstylebody">The Mustard Seed Co.</span></p>\n\n<p><span style="font-family:uictfonttextstylebody">(706)847-7178</span></p>\n\n<p><span style="font-family:uictfonttextstylebody">Themustardseedfaithco@outlook.com</span></p>\n
LOCATION:Kingston Park 30 Main Street Kingston\, Georgia 30145
UID:e.1202.171752
SEQUENCE:3
DTSTAMP:20260421T231158Z
URL:https://business.cartersvillechamber.com/events/details/2nd-annual-block-party-171752
END:VEVENT

END:VCALENDAR
