BEGIN:VCALENDAR
VERSION:2.0
PRODID:-//ChamberMaster//Event Calendar 2.0//EN
METHOD:PUBLISH
X-PUBLISHED-TTL:P3D
REFRESH-INTERVAL:P3D
CALSCALE:GREGORIAN
BEGIN:VEVENT
DTSTART:20250403T170000Z
DTEND:20250403T180000Z
X-MICROSOFT-CDO-ALLDAYEVENT:FALSE
SUMMARY:"3 Easy Steps to Boost Your Sales Appointments" Online Workshop
DESCRIPTION:"3 Easy Steps to Boost Your Sales Appointments" Online Workshop\n\n\n\nThursday\, April 3\, 2025\n\n1:00 PM - 2:00 PM\n\nFee: Free\n\n\n\nEvery sale starts with an appointment\, but getting prospects to agree to a meeting can be challenging. Join us to discover a straightforward sales strategy that will help you dramatically increase your qualified appointments.\n\n\n\nIn this webinar\, our expert presenter will walk you through the 3-step system designed to grow your sales pipeline. Whether you're new to sales or looking to improve your current approach\, you'll walk away with actionable steps you can apply immediately.\n\n\n\nLearning Objectives:\n\n	Understand the difference between prospecting and selling\n	Master the three elements every prospecting method needs to generate qualified appointments\n	A proven 3-step system designed to grow your sales pipeline\n\nLive attendees will receive the slide deck and a link to this webinar recording.\n\n\n\nRegister Online
X-ALT-DESC;FMTTYPE=text/html:<strong>&quot\;3 Easy Steps to Boost Your Sales Appointments</strong><strong>&quot\; Online Workshop<br />\n<br />\nThursday\, April 3\, 2025<br />\n1:00 PM - 2:00 PM<br />\nFee: Free</strong><br />\n<br />\nEvery sale starts with an appointment\, but getting prospects to agree to a meeting can be challenging. Join us to discover a straightforward sales strategy that will help you dramatically increase your qualified appointments.<br />\n<br />\nIn this webinar\, our expert presenter will walk you through the 3-step system designed to grow your sales pipeline. Whether you&#39\;re new to sales or looking to improve your current approach\, you&#39\;ll walk away with actionable steps you can apply immediately.<br />\n<br />\nLearning Objectives:\n<ul>\n	<li>Understand the difference between prospecting and selling</li>\n	<li>Master the three elements every prospecting method needs to generate qualified appointments</li>\n	<li>A proven 3-step system designed to grow your sales pipeline</li>\n</ul>\n<em><strong>Live attendees will receive the slide deck and a link to this webinar recording.</strong></em><br />\n<br />\n<strong><a href="https://www.score.org/event/3-easy-steps-boost-your-sales-appointments" target="_blank">Register Online</a></strong>
LOCATION:Online Workshop
UID:e.1202.170139
SEQUENCE:3
DTSTAMP:20260422T091918Z
URL:https://business.cartersvillechamber.com/events/details/3-easy-steps-to-boost-your-sales-appointments-online-workshop-170139
END:VEVENT

END:VCALENDAR
