BEGIN:VCALENDAR
VERSION:2.0
PRODID:-//ChamberMaster//Event Calendar 2.0//EN
METHOD:PUBLISH
X-PUBLISHED-TTL:P3D
REFRESH-INTERVAL:P3D
CALSCALE:GREGORIAN
BEGIN:VEVENT
DTSTART:20251215T210000Z
DTEND:20251215T220000Z
X-MICROSOFT-CDO-ALLDAYEVENT:FALSE
SUMMARY:3D Printed Cookie Cutters
DESCRIPTION:Handmade for the Holidays!\n\nDesign a 3D printed Cookie Cutter using Tinkercad\, a free web app for 3D designs.\n\nThe cookie cutters will be printed after the class and will need to be picked up. Adults only. Registration is required. Register at the Reference Desk beginning December 2nd. Space is limited.
X-ALT-DESC;FMTTYPE=text/html:<span style="color:rgb(62\, 62\, 62)\; font-family:system-ui\; font-size:12.8px">Handmade for the Holidays!</span><br />\n<span style="color:rgb(62\, 62\, 62)\; font-family:system-ui\; font-size:12.8px">Design a 3D printed Cookie Cutter using Tinkercad\, a free web app for 3D designs.</span><br />\n<span style="color:rgb(62\, 62\, 62)\; font-family:system-ui\; font-size:12.8px">The cookie cutters will be printed after the class and will need to be picked up. Adults only. Registration is required. Register at the Reference Desk beginning December 2nd. Space is limited.</span>
LOCATION:Cartersville Public Library Innospark Lab 429 W Main St Cartersville\, GA 30121
UID:e.1202.172131
SEQUENCE:3
DTSTAMP:20260421T214355Z
URL:https://business.cartersvillechamber.com/events/details/3d-printed-cookie-cutters-172131
END:VEVENT

END:VCALENDAR
