BEGIN:VCALENDAR
VERSION:2.0
PRODID:-//ChamberMaster//Event Calendar 2.0//EN
METHOD:PUBLISH
X-PUBLISHED-TTL:P3D
REFRESH-INTERVAL:P3D
CALSCALE:GREGORIAN
BEGIN:VEVENT
DTSTART:20250222T183000Z
DTEND:20250222T230000Z
X-MICROSOFT-CDO-ALLDAYEVENT:FALSE
SUMMARY:4th Annual Black History Parade
DESCRIPTION:An exciting day featuring floats\, classic cars\, motorcycles\, dance teams\, and the world famous Jonesboro High School Majestic Marching Cardinals. Start/End Point: Tabernacle Baptist Church parking lot. Route: Church Street\, Erwin Street\, Cherokee Avenue\, Bartow Street\, Main Street & Tennessee Street. Immediately following the parade\, join us for a festival at Friendship Plaza featuring live music\, food & pop-up shops from locally owned and operated Black businesses and nonprofits sharing information on helpful resources.
X-ALT-DESC;FMTTYPE=text/html:An exciting day featuring floats\, classic cars\, motorcycles\, dance teams\, and the world famous Jonesboro High School Majestic Marching Cardinals. Start/End Point: Tabernacle Baptist Church parking lot. Route: Church Street\, Erwin Street\, Cherokee Avenue\, Bartow Street\, Main Street &amp\; Tennessee Street. Immediately following the parade\, join us for a festival at Friendship Plaza featuring live music\, food &amp\; pop-up shops from locally owned and operated Black businesses and nonprofits sharing information on helpful resources.
LOCATION:Downtown Cartersville
UID:e.1202.167600
SEQUENCE:3
DTSTAMP:20260422T115723Z
URL:https://business.cartersvillechamber.com/events/details/4th-annual-black-history-parade-167600
END:VEVENT

END:VCALENDAR
