BEGIN:VCALENDAR
VERSION:2.0
PRODID:-//ChamberMaster//Event Calendar 2.0//EN
METHOD:PUBLISH
X-PUBLISHED-TTL:P3D
REFRESH-INTERVAL:P3D
CALSCALE:GREGORIAN
BEGIN:VEVENT
DTSTART:20250918T190000Z
DTEND:20250919T003000Z
X-MICROSOFT-CDO-ALLDAYEVENT:FALSE
SUMMARY:75th Red Top Mt State Park Anniversary Celebration
DESCRIPTION:75th Red Top Mt State Park Anniversary Celebration\n\nAn Evening of Music\, Memories & More!\n\n\n\nThursday\, September 18\, 2025\, 3:00 PM - 8:30 PM\n\nPark Visitor Center\n\n\n\nFeaturing legendary recording artists SD Music Association Rock and Rollers Hall of Fame: IVORY with Special Guest\, Harris Battle.\n\n\n\nFood Trucks & Concessions\n\n\n\nThis is an exclusive concert event. Tickets are limited and must be purchased in advance online at www.eventbrite.com. No tickets sold at gate!\n\n\n\nFor more information\, call (770) 975-4226.
X-ALT-DESC;FMTTYPE=text/html:<strong>75th Red Top Mt State Park Anniversary Celebration</strong><br />\n<em>An Evening of Music\, Memories &amp\; More!</em><br />\n<br />\n<strong>Thursday\, September 18\, 2025\, 3:00 PM - 8:30 PM<br />\nPark Visitor Center</strong><br />\n<br />\nFeaturing legendary recording artists SD Music Association Rock and Rollers Hall of Fame: IVORY with Special Guest\, Harris Battle.<br />\n<br />\nFood Trucks &amp\; Concessions<br />\n<br />\nThis is an exclusive concert event. Tickets are limited and must be purchased in advance online at <a href="https://www.eventbrite.com" target="_blank">www.eventbrite.com</a>. No tickets sold at gate!<br />\n<br />\nFor more information\, call (770) 975-4226.
LOCATION:Red Top Mt State Park Visitor Center
UID:e.1202.171755
SEQUENCE:3
DTSTAMP:20260422T021205Z
URL:https://business.cartersvillechamber.com/events/details/75th-red-top-mt-state-park-anniversary-celebration-171755
END:VEVENT

END:VCALENDAR
