BEGIN:VCALENDAR
VERSION:2.0
PRODID:-//ChamberMaster//Event Calendar 2.0//EN
METHOD:PUBLISH
X-PUBLISHED-TTL:P3D
REFRESH-INTERVAL:P3D
CALSCALE:GREGORIAN
BEGIN:VEVENT
DTSTART:20240907T120000Z
DTEND:20240907T140000Z
X-MICROSOFT-CDO-ALLDAYEVENT:FALSE
SUMMARY:9/11 Run to Remember 5K
DESCRIPTION:Please plan to join us for the 4th. Annual running of the "9/11 Run to Remember 5K" held in remembrance of the 23rd. Anniversary of the events and tragedy of 9/11.  Held Saturday morning\, September 7th\, 2024 in Downtown Cartersville\, GA the "9/11 Run to Remember" 5K represents a celebration of the herculean efforts of all of the first responders from that unforgettable day 23 years ago.\n\n\n\nProduced in conjunction with the Cartersville Fire Department\, The Cartersville Police Department\, and Metro Atlanta EMS\, plan to come out and join us for a unique race in celebration of the lives of those that gave so much and enjoy the pre-race presentation of the colors by the Cartersville Fire Department Honor Guard in honor and memory of the events from that fateful morning.  Proceeds from the race go to benefit the Georgia Firefighters Burn Foundation (www.gfbf.org)  and Next Rung (www.nextrung.org).\n\n\n\nThis is a race route NW GA Runners have come to love!  As the turnaround destination of the 5K route is the Cartersville Fire Department Station #1 where runners pass THROUGH a Fire Truck bay in Station #1 where they will be greeted by cheering Firefighters and other First Responders while grabbing water for the return trip to the finish line!\n\n\n\nRegister Online\n\n\n\nView Sponsorship Opportunities\n\n\n\nIf you are interested in being a Sponsor for this very special event\, please contact Michele Bledsoe with the Cartersville Fire Department: mbledsoe@cityofcartersville.org
X-ALT-DESC;FMTTYPE=text/html:Please plan to join us for the 4th. Annual running of the &quot\;9/11 Run to Remember 5K&quot\; held in remembrance of the 23rd. Anniversary of the events and tragedy of 9/11.&nbsp\; Held Saturday morning\, September 7th\, 2024 in Downtown Cartersville\, GA the &ldquo\;9/11 Run to Remember&rdquo\; 5K represents a celebration of the herculean efforts of all of the first responders from that unforgettable day 23 years ago.<br />\n<br />\nProduced in conjunction with the Cartersville Fire Department\, The Cartersville Police Department\, and Metro Atlanta EMS\, plan to come out and join us for a unique race in celebration of the lives of those that gave so much and enjoy the pre-race presentation of the colors by the Cartersville Fire Department Honor Guard in honor and memory of the events from that fateful morning.&nbsp\; Proceeds from the race go to benefit the Georgia Firefighters Burn Foundation (<a href="https://www.gfbf.org" target="_blank">www.gfbf.org</a>)&nbsp\; and Next Rung (<a href="https://www.nextrung.org" target="_blank">www.nextrung.org</a>).<br />\n<br />\nThis is a race route NW GA Runners have come to love!&nbsp\; As the turnaround destination of the 5K route is the Cartersville Fire Department Station #1 where runners pass THROUGH a Fire Truck bay in Station #1 where they will be greeted by cheering Firefighters and other First Responders while grabbing water for the return trip to the finish line!<br />\n<br />\n<strong><a href="https://runsignup.com/Race/GA/Cartersville/Cartersville" target="_blank">Register Online</a></strong><br />\n<br />\n<strong><a href="https://www.signupgenius.com/go/10C0B44ADAB2CA5FAC34-50303279-911?useFullSite=true#/" target="_blank">View Sponsorship Opportunities</a></strong><br />\n<br />\nIf you are interested in being a Sponsor for this very special event\, please contact Michele Bledsoe with the Cartersville Fire Department: <a href="mailto:mbledsoe@cityofcartersville.org">mbledsoe@cityofcartersville.org</a><br />\n&nbsp\;
LOCATION:10 North Public Square Cartersville\, GA US 30120
UID:e.1202.166210
SEQUENCE:3
DTSTAMP:20260422T185240Z
URL:https://business.cartersvillechamber.com/events/details/9-11-run-to-remember-5k-166210
END:VEVENT

END:VCALENDAR
