BEGIN:VCALENDAR
VERSION:2.0
PRODID:-//ChamberMaster//Event Calendar 2.0//EN
METHOD:PUBLISH
X-PUBLISHED-TTL:P3D
REFRESH-INTERVAL:P3D
CALSCALE:GREGORIAN
BEGIN:VEVENT
DTSTART:20250820T140000Z
DTEND:20250820T160000Z
X-MICROSOFT-CDO-ALLDAYEVENT:FALSE
SUMMARY:"A Practical Guide for Social Media Content Creation" Workshop
DESCRIPTION:"A Practical Guide for Social Media Content Creation" Workshop\n\n\n\nWednesday\, August 20\, 2025\, 10 AM - 12 PM\n\nFee: Free\n\n\n\nRegister Online\n\n\n\nJoin us for this Live Online Workshop designed to empower small business owners with the skills to create effective social media content without relying on outside help.\n\n\n\nYou will learn about:\n\n	Social media content creation   understanding the basics\n	The latest and most effective tools   streamlining the creation process\n	Constructing a Content Calendar  developing a structured content plan to be consistent\, save time\, and improve efficiency\n	Content Strategy for Business Growth   crafting engaging posts that attract and convert potential customers\n\n\n\nBy the end of this workshop\, you'll have actionable strategies and practical tools to take control of your social media marketing with confidence!
X-ALT-DESC;FMTTYPE=text/html:<strong>&quot\;A Practical Guide for Social Media Content Creation</strong><strong>&quot\; Workshop<br />\n<br />\nWednesday\, August 20\, 2025\, 10 AM - 12 PM<br />\nFee: Free</strong><br />\n<br />\n<a href="https://www.score.org/northmetroatlanta/event/a-practical-guide-social-media-content-creation-0" target="_blank">Register Online</a><br />\n<br />\nJoin us for this <strong>Live Online Workshop</strong> designed to empower small business owners with the skills to create effective social media content without relying on outside help.<br />\n<br />\nYou will learn about:\n<ul>\n	<li>Social media content creation &ndash\; understanding the basics</li>\n	<li>The latest and most effective tools &ndash\; streamlining the creation process</li>\n	<li>Constructing a Content Calendar&ndash\; developing a structured content plan to be consistent\, save time\, and improve efficiency</li>\n	<li>Content Strategy for Business Growth &ndash\; crafting engaging posts that attract and convert potential customers</li>\n</ul>\n<br />\nBy the end of this workshop\, you&#39\;ll have actionable strategies and practical tools to take control of your social media marketing with confidence!
LOCATION:Online Workshop
UID:e.1202.171556
SEQUENCE:3
DTSTAMP:20260422T032720Z
URL:https://business.cartersvillechamber.com/events/details/a-practical-guide-for-social-media-content-creation-workshop-171556
END:VEVENT

END:VCALENDAR
