BEGIN:VCALENDAR
VERSION:2.0
PRODID:-//ChamberMaster//Event Calendar 2.0//EN
METHOD:PUBLISH
X-PUBLISHED-TTL:P3D
REFRESH-INTERVAL:P3D
CALSCALE:GREGORIAN
BEGIN:VEVENT
DTSTART:20240921T133000Z
DTEND:20240921T193000Z
X-MICROSOFT-CDO-ALLDAYEVENT:FALSE
SUMMARY:AARP Safe Driving Class
DESCRIPTION:Save money on your auto insurance by taking AARP's Driver Safety course. For ages 16 and up. $25 for non-AARP members\, $20 for AARP members. Contact Darlene at 678.313.8298 or visit AARP.org to register.
X-ALT-DESC;FMTTYPE=text/html:<span style="background-color:rgb(255\, 255\, 255)\; color:rgb(62\, 62\, 62)\; font-family:system-ui\; font-size:12.8px">Save money on your auto insurance by taking AARP&rsquo\;s Driver Safety course. For ages 16 and up. $25 for non-AARP members\, $20 for AARP members. Contact Darlene at 678.313.8298 or visit AARP.org to register.</span>
LOCATION:Cartersville Library Classroom 429 West Main Street Cartersville GA 30120 US
UID:e.1202.166223
SEQUENCE:3
DTSTAMP:20260422T185617Z
URL:https://business.cartersvillechamber.com/events/details/aarp-safe-driving-class-09-21-2024-166223
END:VEVENT

END:VCALENDAR
