BEGIN:VCALENDAR
VERSION:2.0
PRODID:-//ChamberMaster//Event Calendar 2.0//EN
METHOD:PUBLISH
X-PUBLISHED-TTL:P3D
REFRESH-INTERVAL:P3D
CALSCALE:GREGORIAN
BEGIN:VEVENT
DTSTART:20251213T143000Z
DTEND:20251213T213000Z
X-MICROSOFT-CDO-ALLDAYEVENT:FALSE
SUMMARY:AARP Safe Driving Class
DESCRIPTION:Save money on your auto insurance by taking AARP's Driver Safety course. For ages 16 and up. $25 for non-AARP members\, $20 for AARP members. Contact Kelly at 423.243.8146 or visit AARP.org to register.
X-ALT-DESC;FMTTYPE=text/html:<span style="color:rgb(62\, 62\, 62)\; font-family:system-ui\; font-size:12.8px">Save money on your auto insurance by taking AARP&rsquo\;s Driver Safety course. For ages 16 and up. $25 for non-AARP members\, $20 for AARP members. Contact Kelly at 423.243.8146 or visit AARP.org to register.</span>
LOCATION:Cartersville Public Library 429 W Main St Cartersville\, GA 30121
UID:e.1202.172129
SEQUENCE:3
DTSTAMP:20260421T214510Z
URL:https://business.cartersvillechamber.com/events/details/aarp-safe-driving-class-12-13-2025-172129
END:VEVENT

END:VCALENDAR
