BEGIN:VCALENDAR
VERSION:2.0
PRODID:-//ChamberMaster//Event Calendar 2.0//EN
METHOD:PUBLISH
X-PUBLISHED-TTL:P3D
REFRESH-INTERVAL:P3D
CALSCALE:GREGORIAN
BEGIN:VEVENT
DTSTART:20260506T184500Z
DTEND:20260506T194500Z
X-MICROSOFT-CDO-ALLDAYEVENT:FALSE
SUMMARY:"Access to Capital in 2026" Online Workshop
DESCRIPTION:"Access to Capital in 2026 - How to Choose\, Prepare\, and Qualify" Workshop\n\n\n\nWednesday\, May 6\, 2026\, 2:45 PM - 3:45 PM\n\nFee: Free\n\n\n\nAccessing capital through options such as loans\, grants\, investors\, and other funding sources is one of the biggest challenges for entrepreneurs in today's uncertain funding landscape. Many business owners know they need funding to start\, run\, or grow\, but are unsure which funding option fits their business or how to prepare.\n\n\n\nIn this webinar\, presented by business funding expert Marjorie Weber\, you'll learn how to prepare\, qualify\, and choose business funding in today's uncertain funding landscape. This session is designed to help you better understand your options\, prepare more effectively\, and make smarter capital decisions based on where your business is today and where you want to go next.\n\n\n\nWhat you'll learn:\n\n	Understand the difference between personal and business credit\n	Learn how FICO\, Vantage\, and business credit scores affect funding decisions\n	Compare grants\, debt\, and investor funding options\n	Identify the best funding paths for start-ups versus expanding businesses\n	Prepare pre-opening\, expansion\, and pro forma operating budgets\n	Make more confident funding decisions in a volatile 2026 environment\n\n\n\nThis webinar is part of the National Small Business Week Learning Lab\, happening May 6-7\, 2026\, featuring free educational content\, mentor connections\, and a community of entrepreneurs.\n\n\n\nRegister Online
X-ALT-DESC;FMTTYPE=text/html:<strong>&quot\;Access to Capital in 2026 - How to Choose\, Prepare\, and Qualify&quot\; Workshop<br />\n<br />\nWednesday\, May 6\, 2026\, 2:45 PM - 3:45 PM<br />\nFee: Free</strong><br />\n<br />\nAccessing capital through options such as loans\, grants\, investors\, and other funding sources is one of the biggest challenges for entrepreneurs in today&rsquo\;s uncertain funding landscape. Many business owners know they need funding to start\, run\, or grow\, but are unsure which funding option fits their business or how to prepare.<br />\n<br />\nIn this webinar\, presented by business funding expert Marjorie Weber\, you&rsquo\;ll learn how to prepare\, qualify\, and choose business funding in today&rsquo\;s uncertain funding landscape. This session is designed to help you better understand your options\, prepare more effectively\, and make smarter capital decisions based on where your business is today and where you want to go next.<br />\n<br />\nWhat you&rsquo\;ll learn:\n<ul>\n	<li>Understand the difference between personal and business credit</li>\n	<li>Learn how FICO\, Vantage\, and business credit scores affect funding decisions</li>\n	<li>Compare grants\, debt\, and investor funding options</li>\n	<li>Identify the best funding paths for start-ups versus expanding businesses</li>\n	<li>Prepare pre-opening\, expansion\, and pro forma operating budgets</li>\n	<li>Make more confident funding decisions in a volatile 2026 environment</li>\n</ul>\n<br />\nThis webinar is part of the&nbsp\;<a href="https://academy.score.org/program/nsbw-learning-lab?_gl=1*1vavkis*_gcl_au*MjEwNzM1NDY1OC4xNzcxOTY0Nzgz*_ga*MTkyODkwNTYyOC4xNzcxOTY0Nzgz*_ga_3LHXGY70TN*czE3NzcwMzgzNDkkbzQkZzEkdDE3NzcwMzkzOTQkajEwJGwwJGgw" target="_blank">National Small Business Week Learning Lab</a>\, happening May 6-7\, 2026\, featuring free educational content\, mentor connections\, and a community of entrepreneurs.<br />\n<br />\n<a href="https://www.score.org/event/how-get-small-business-loan-step-step-guide" target="_blank">Register Online</a>
LOCATION:Online Workshop
UID:e.1202.174078
SEQUENCE:3
DTSTAMP:20260424T191540Z
URL:https://business.cartersvillechamber.com/events/details/access-to-capital-in-2026-online-workshop-174078
END:VEVENT

END:VCALENDAR
