BEGIN:VCALENDAR
VERSION:2.0
PRODID:-//ChamberMaster//Event Calendar 2.0//EN
METHOD:PUBLISH
X-PUBLISHED-TTL:P3D
REFRESH-INTERVAL:P3D
CALSCALE:GREGORIAN
BEGIN:VEVENT
DTSTART:20250429T170000Z
DTEND:20250429T190000Z
X-MICROSOFT-CDO-ALLDAYEVENT:FALSE
SUMMARY:"Accounting for Non-Accountants" Workshop
DESCRIPTION:"Accounting for Non-Accountants" Workshop\n\n\n\nTuesday\, April 29\, 2025\, 1 PM - 3 PM\n\nFee: Free\n\n\n\nThis Live Online Workshop can be a game-changer for a small business owner. It is designed to arm you with essential financial skills. \n\n\n\nKnowing accounting basics helps you make smarter decisions:\n\n	Track income and expenses accurately\n	Understand profit vs. cash flow\n	Set realistic budgets\n\n\n\nWhen you become familiar with the lingo of Financial Professionals\, terms like P&L\, COGS\, and Depreciation become understandable. You can:\n\n	Ask better questions\n	Spot red flags\n	Collaborate more effectively with your accountant or CPA\n\n\n\nWith a focus on for-profit accounting principles\, this interactive session will leave you with practical knowledge to boost your confidence in evaluating and making decisions in areas such as hiring\, pricing\, and financing.\n\n\n\nBy participating in this workshop\, you're not just learning\, you're investing in the success of your business.\n\n\n\nRegister Online
X-ALT-DESC;FMTTYPE=text/html:<strong>&quot\;Accounting for Non-Accountants&quot\; Workshop<br />\n<br />\nTuesday\, April 29\, 2025\, 1 PM - 3 PM<br />\nFee: Free</strong><br />\n<br />\nThis <strong>Live Online Workshop</strong> can be a game-changer for a small business owner. It is designed to arm you with essential financial skills.&nbsp\;<br />\n<br />\nKnowing accounting basics helps you make smarter decisions:\n<ul>\n	<li>Track income and expenses accurately</li>\n	<li>Understand profit vs. cash flow</li>\n	<li>Set realistic budgets</li>\n</ul>\n<br />\nWhen you become familiar with the lingo of Financial Professionals\, terms like P&amp\;L\, COGS\, and Depreciation become understandable. You can:\n<ul>\n	<li>Ask better questions</li>\n	<li>Spot red flags</li>\n	<li>Collaborate more effectively with your accountant or CPA</li>\n</ul>\n<br />\nWith a focus on for-profit accounting principles\, this interactive session will leave you with practical knowledge to boost your confidence in evaluating and making decisions in areas such as hiring\, pricing\, and financing.<br />\n<br />\nBy participating in this workshop\, you&#39\;re not just learning\, you&#39\;re investing in the success of your business.<br />\n<br />\n<a href="https://www.score.org/northmetroatlanta/event/accounting-non-accountants-0" target="_blank"><strong>Register Online</strong></a>
LOCATION:Online Workshop
UID:e.1202.170689
SEQUENCE:3
DTSTAMP:20260422T091522Z
URL:https://business.cartersvillechamber.com/events/details/accounting-for-non-accountants-workshop-170689
END:VEVENT

END:VCALENDAR
