BEGIN:VCALENDAR
VERSION:2.0
PRODID:-//ChamberMaster//Event Calendar 2.0//EN
METHOD:PUBLISH
X-PUBLISHED-TTL:P3D
REFRESH-INTERVAL:P3D
CALSCALE:GREGORIAN
BEGIN:VEVENT
DTSTART:20241013T140000Z
DTEND:20241013T200000Z
X-MICROSOFT-CDO-ALLDAYEVENT:FALSE
SUMMARY:ACME Make & Take!
DESCRIPTION:Get ready for a good time with ACME on October 13\, 2024\, from 10:00 am to 4:00 pm! Join us in the private dining rooms for a hands-on Make & Take event where you'll have the chance to build your very own model car. Supplies are limited\, so don't miss out on the fun! See you there!
X-ALT-DESC;FMTTYPE=text/html:Get ready for a good time with ACME on October 13\, 2024\, from 10:00 am to 4:00 pm! Join us in the private dining rooms for a hands-on Make &amp\; Take event where you&rsquo\;ll have the chance to build your very own model car. Supplies are limited\, so don&rsquo\;t miss out on the fun! See you there!
LOCATION:Savoy Automobile Museum 3 Savoy Lane Cartersville\, GA 30120
UID:e.1202.166950
SEQUENCE:3
DTSTAMP:20260422T171843Z
URL:https://business.cartersvillechamber.com/events/details/acme-make-take-166950
END:VEVENT

END:VCALENDAR
