BEGIN:VCALENDAR
VERSION:2.0
PRODID:-//ChamberMaster//Event Calendar 2.0//EN
METHOD:PUBLISH
X-PUBLISHED-TTL:P3D
REFRESH-INTERVAL:P3D
CALSCALE:GREGORIAN
BEGIN:VEVENT
DTSTART:20240917T213000Z
DTEND:20240918T003000Z
X-MICROSOFT-CDO-ALLDAYEVENT:FALSE
SUMMARY:Adairsville Community Forum
DESCRIPTION:Adairsville Community Forum\n\n\n\nTuesday\, September 17\, 2024\, 5:30 PM - 8:30 PM\n\nEarl Towe Community Center\n\n218 North Main Street\, Adairsville\, GA 30103\n\n\n\nRSVP Here
X-ALT-DESC;FMTTYPE=text/html:Adairsville Community Forum<br />\n<br />\nTuesday\, September 17\, 2024\, 5:30 PM - 8:30 PM<br />\nEarl Towe Community Center<br />\n218 North Main Street\, Adairsville\, GA 30103<br />\n<br />\n<a href="https://docs.google.com/forms/d/e/1FAIpQLScB8sUahKO5N9CiXyrO12G_JjpqhpBCO3Hwy7aa8CTUnrFsfw/viewform" target="_blank">RSVP Here</a>
LOCATION:Earl Towe Community Center 218 North Main Street Adairsville\, GA 30103
UID:e.1202.166696
SEQUENCE:3
DTSTAMP:20260422T185604Z
URL:https://business.cartersvillechamber.com/events/details/adairsville-community-forum-166696
END:VEVENT

END:VCALENDAR
