BEGIN:VCALENDAR
VERSION:2.0
PRODID:-//ChamberMaster//Event Calendar 2.0//EN
METHOD:PUBLISH
X-PUBLISHED-TTL:P3D
REFRESH-INTERVAL:P3D
CALSCALE:GREGORIAN
BEGIN:VEVENT
DTSTART:20260317T170000Z
DTEND:20260317T183000Z
X-MICROSOFT-CDO-ALLDAYEVENT:FALSE
SUMMARY:"Advanced Negotiation Strategy to Protect Profit and Close Stronger Deals" Workshop
DESCRIPTION:"Advanced Negotiation Strategy to Protect Profit and Close Stronger Deals" Workshop\n\n\n\nTuesday\, March 17\, 2026\, 1:00 PM - 2:30 PM\n\nFee: $15\n\n\n\nFrom vendor and client agreements to pricing and hiring employees\, negotiations are a constant part of running a business. The terms you agree to directly affect the profit you keep\, the risk you assume\, your business relationships\, and your cash flow. Without a repeatable negotiation process\, agreements are made reactively\, putting your profits at risk.\n\n\n\nIn this advanced webinar\, you'll learn how to approach negotiations with both a rational structure and awareness of the human dynamics that influence outcomes. We will examine frameworks that help bring structure and clarity\, along with the emotional and behavioral factors that often make and break a deal. We will also look at real business examples to show you how these principles apply in practical situations involving clients\, vendors\, partners\, and other high-stakes conversations.\n\n\n\nBy the end of this webinar\, you will be able to:\n\n	Understand and apply foundational frameworks such as BATNA\, ZOPA\, and Harvard's 7 Elements\n	Recognize why logic alone often fails and navigate emotional triggers and behavioral biases more effectively\n	Use tactical empathy techniques drawn from the Black Swan approach to reduce tension and move conversations toward agreement\n	Apply a practical negotiation preparation checklist to real-world scenarios involving clients\, vendors\, and partners\n\n\n\nRegister Online
X-ALT-DESC;FMTTYPE=text/html:<strong>&quot\;Advanced Negotiation Strategy to Protect Profit and Close Stronger Deals</strong><strong>&quot\; Workshop<br />\n<br />\nTuesday\, March 17\, 2026\, 1:00 PM - 2:30 PM<br />\nFee: $15</strong><br />\n<br />\nFrom vendor and client agreements to pricing and hiring employees\, negotiations are a constant part of running a business. The terms you agree to directly affect the profit you keep\, the risk you assume\, your business relationships\, and your cash flow. Without a repeatable negotiation process\, agreements are made reactively\, putting your profits at risk.<br />\n<br />\nIn this advanced webinar\, you&rsquo\;ll learn how to approach negotiations with both a rational structure and awareness of the human dynamics that influence outcomes. We will examine frameworks that help bring structure and clarity\, along with the emotional and behavioral factors that often make and break a deal. We will also look at real business examples to show you how these principles apply in practical situations involving clients\, vendors\, partners\, and other high-stakes conversations.<br />\n<br />\nBy the end of this webinar\, you will be able to:\n<ul>\n	<li>Understand and apply foundational frameworks such as BATNA\, ZOPA\, and Harvard&rsquo\;s 7 Elements</li>\n	<li>Recognize why logic alone often fails and navigate emotional triggers and behavioral biases more effectively</li>\n	<li>Use tactical empathy techniques drawn from the Black Swan approach to reduce tension and move conversations toward agreement</li>\n	<li>Apply a practical negotiation preparation checklist to real-world scenarios involving clients\, vendors\, and partners</li>\n</ul>\n<br />\n<a href="https://www.score.org/event/advanced-negotiation-strategy-protect-profit-and-close-stronger-deals" target="_blank"><strong>Register Online</strong></a>
LOCATION:Online Workshop
UID:e.1202.173679
SEQUENCE:3
DTSTAMP:20260421T174633Z
URL:https://business.cartersvillechamber.com/events/details/advanced-negotiation-strategy-to-protect-profit-and-close-stronger-deals-workshop-173679
END:VEVENT

END:VCALENDAR
