BEGIN:VCALENDAR
VERSION:2.0
PRODID:-//ChamberMaster//Event Calendar 2.0//EN
METHOD:PUBLISH
X-PUBLISHED-TTL:P3D
REFRESH-INTERVAL:P3D
CALSCALE:GREGORIAN
BEGIN:VEVENT
DTSTART:20250911T130000Z
DTEND:20250912T190000Z
X-MICROSOFT-CDO-ALLDAYEVENT:FALSE
SUMMARY:AI at Work: Practical Ways to Use ChatGPT in Any Industry
DESCRIPTION:With AI @ Work intensive 2-day course\, you will learn how to use ChatGPT to save time\, improve communication\, and streamline everyday tasks no tech background needed. This hands-on course is designed for professionals in any field who want practical\,\n\nreal-world AI skills they can use right away. You'll walk away with your own reusable prompt toolkit\, personalized workflows\, and a solid understanding of how to use AI responsibly in the workplace.\n\nYou'll learn how to:\n\n  Write effective prompts for work-related tasks\n\n  Draft emails\, reports\, and content using ChatGPT\n\n  Plan projects\, summarize text\, and organize ideas\n\n  Build a prompt library tailored to your role\n\n  Spot and correct AI errors with confidence
X-ALT-DESC;FMTTYPE=text/html:With AI @ Work intensive 2-day course\, you will learn how to use ChatGPT to save time\, improve communication\, and streamline everyday tasks&mdash\;no tech background needed. This hands-on course is designed for professionals in any field who want practical\,<br />\nreal-world AI skills they can use right away. You&rsquo\;ll walk away with your own reusable prompt toolkit\, personalized workflows\, and a solid understanding of how to use AI responsibly in the workplace.<br />\nYou&rsquo\;ll learn how to:<br />\n&bull\; Write effective prompts for work-related tasks<br />\n&bull\; Draft emails\, reports\, and content using ChatGPT<br />\n&bull\; Plan projects\, summarize text\, and organize ideas<br />\n&bull\; Build a prompt library tailored to your role<br />\n&bull\; Spot and correct AI errors with confidence<br />\n&nbsp\;
LOCATION:Chattahoochee Tech North Metro Campus 1598 Ross Rd Acworth\, GA 30102
UID:e.1202.171720
SEQUENCE:3
DTSTAMP:20260422T021204Z
URL:https://business.cartersvillechamber.com/events/details/ai-at-work-practical-ways-to-use-chatgpt-in-any-industry-171720
END:VEVENT

END:VCALENDAR
