BEGIN:VCALENDAR
VERSION:2.0
PRODID:-//ChamberMaster//Event Calendar 2.0//EN
METHOD:PUBLISH
X-PUBLISHED-TTL:P3D
REFRESH-INTERVAL:P3D
CALSCALE:GREGORIAN
BEGIN:VEVENT
DTSTART:20250912T140000Z
DTEND:20250912T153000Z
X-MICROSOFT-CDO-ALLDAYEVENT:FALSE
SUMMARY:AI for Resumes
DESCRIPTION:Join Adaris Rivera from Goodwill of North Georgia to learn the latest tips and techniques for writing an organized\, effective\, and winning resume using AI.
X-ALT-DESC;FMTTYPE=text/html:<span style="color:rgb(62\, 62\, 62)\; font-family:system-ui\; font-size:12.8px">Join Adaris Rivera from Goodwill of North Georgia to learn the latest tips and techniques for writing an organized\, effective\, and winning resume using AI.&nbsp\;</span>
LOCATION:Cartersville Public Library Conference Room
UID:e.1202.171796
SEQUENCE:3
DTSTAMP:20260422T020918Z
URL:https://business.cartersvillechamber.com/events/details/ai-for-resumes-171796
END:VEVENT

END:VCALENDAR
