BEGIN:VCALENDAR
VERSION:2.0
PRODID:-//ChamberMaster//Event Calendar 2.0//EN
METHOD:PUBLISH
X-PUBLISHED-TTL:P3D
REFRESH-INTERVAL:P3D
CALSCALE:GREGORIAN
BEGIN:VEVENT
DTSTART:20260506T161500Z
DTEND:20260506T171500Z
X-MICROSOFT-CDO-ALLDAYEVENT:FALSE
SUMMARY:"AI For Small Business" Online Workshop
DESCRIPTION:"AI for Small Business: Find Opportunities and Take Action" Workshop\n\n\n\nWednesday\, May 6\, 2026\, 12:15 PM - 1:15 PM\n\nFee: Free\n\n\n\nA lot of business owners are already experimenting with AI\, but want to move beyond basic tasks and start applying it more strategically to create stronger business results. The challenge is knowing where AI fits\, what opportunities are worth pursuing\, and how to turn ideas into practical action. \n\n\n\nIn this webinar\, we'll walk you through a practical process for evaluating and implementing AI in your business. You'll see live demonstrations of how AI can be used to address common small business challenges\, while learning how to identify high-impact opportunities\, assess readiness\, and prioritize AI initiatives that make the most sense for your business.\n\n\n\nBy the end of this session\, you'll walk away with a clear 7-day plan to start implementing AI in your business.\n\n\n\nWhat You'll Learn:\n\n	Identify the best opportunities to use AI in your business\n	Evaluate whether your business is ready to act on those opportunities\n	Prioritize AI initiatives based on impact and feasibility\n	See real examples of AI applied to common small business challenges\n	Turn ideas into practical next steps you can take right away\n	Build a simple 7-day plan to start using AI in your business\n\n\n\nThis webinar is part of the National Small Business Week Learning Lab\, happening May 6-7\, 2026\, featuring free educational content\, mentor connections\, and a community of entrepreneurs.\n\n\n\nRegister Online
X-ALT-DESC;FMTTYPE=text/html:<strong>&quot\;AI for Small Business: Find Opportunities and Take Action&quot\; Workshop<br />\n<br />\nWednesday\, May 6\, 2026\, 12:15 PM - 1:15 PM<br />\nFee: Free</strong><br />\n<br />\nA lot of business owners are already experimenting with AI\, but want to move beyond basic tasks and start applying it more strategically to create stronger business results. The challenge is knowing where AI fits\, what opportunities are worth pursuing\, and how to turn ideas into practical action.&nbsp\;<br />\n<br />\nIn this webinar\, we&rsquo\;ll walk you through a practical process for evaluating and implementing AI in your business. You&rsquo\;ll see live demonstrations of how AI can be used to address common small business challenges\, while learning how to identify high-impact opportunities\, assess readiness\, and prioritize AI initiatives that make the most sense for your business.<br />\n<br />\nBy the end of this session\, you&rsquo\;ll walk away with a clear 7-day plan to start implementing AI in your business.<br />\n<br />\nWhat You&rsquo\;ll Learn:\n<ul>\n	<li>Identify the best opportunities to use AI in your business</li>\n	<li>Evaluate whether your business is ready to act on those opportunities</li>\n	<li>Prioritize AI initiatives based on impact and feasibility</li>\n	<li>See real examples of AI applied to common small business challenges</li>\n	<li>Turn ideas into practical next steps you can take right away</li>\n	<li>Build a simple 7-day plan to start using AI in your business</li>\n</ul>\n<br />\nThis webinar is part of the&nbsp\;<a href="https://academy.score.org/program/nsbw-learning-lab?_gl=1*1vavkis*_gcl_au*MjEwNzM1NDY1OC4xNzcxOTY0Nzgz*_ga*MTkyODkwNTYyOC4xNzcxOTY0Nzgz*_ga_3LHXGY70TN*czE3NzcwMzgzNDkkbzQkZzEkdDE3NzcwMzkzOTQkajEwJGwwJGgw" target="_blank">National Small Business Week Learning Lab</a>\, happening May 6-7\, 2026\, featuring free educational content\, mentor connections\, and a community of entrepreneurs.<br />\n<br />\n<a href="https://www.score.org/event/ai-small-business-find-opportunities-and-take-action" target="_blank">Register Online</a>
LOCATION:Online Workshop
UID:e.1202.174076
SEQUENCE:3
DTSTAMP:20260424T190907Z
URL:https://business.cartersvillechamber.com/events/details/ai-for-small-business-online-workshop-174076
END:VEVENT

END:VCALENDAR
