BEGIN:VCALENDAR
VERSION:2.0
PRODID:-//ChamberMaster//Event Calendar 2.0//EN
METHOD:PUBLISH
X-PUBLISHED-TTL:P3D
REFRESH-INTERVAL:P3D
CALSCALE:GREGORIAN
BEGIN:VEVENT
DTSTART:20240731T140000Z
DTEND:20240731T160000Z
X-MICROSOFT-CDO-ALLDAYEVENT:FALSE
SUMMARY:AI & You
DESCRIPTION:Emory University Center for AI Learning Invites You to\n\nAI & You\n\nSave Time\, Earn More\, and Thrive with AI\n\nHosted by the Cartersville-Bartow Chamber\n\n\n\nWednesday\, July 31\, 2024\, 10 AM - 12 PM\n\n122 W. Main Street\, Cartersville\, GA 30120\n\n\n\nFREE COMMUNITY OUTREACH EVENT - REGISTER HERE\n\n\n\nPresented By Dr. Joe Sutherland\, Founding Director\, Emory University Center for AI Learning\n\n	Demystify AI's impact on your future and the state\n	Ask any question you have on AI and Professor Joe will answer it\n	Get free 3-month access to our AI platform (like ChatGPT)\n	Get discount vouchers for Emory's online AI certification\n\n\n\nFood and beverages provided. View event flyer.
X-ALT-DESC;FMTTYPE=text/html:<em>Emory University Center for AI Learning Invites You to</em><br />\n<span style="font-size:20px\;"><strong>AI &amp\; You</strong></span><br />\n<strong>Save Time\, Earn More\, and Thrive with AI</strong><br />\nHosted by the Cartersville-Bartow Chamber<br />\n<br />\nWednesday\, July 31\, 2024\, 10 AM - 12 PM<br />\n122 W. Main Street\, Cartersville\, GA 30120<br />\n<br />\nFREE COMMUNITY OUTREACH EVENT - <a href="https://www.eventbrite.com/e/ai-you-save-time-earn-more-and-thrive-with-ai-cartersville-tickets-924071742457" target="_blank">REGISTER HERE</a><br />\n<br />\nPresented By Dr. Joe Sutherland\, Founding Director\, Emory University Center for AI Learning\n<ul>\n	<li><strong>Demystify AI&#39\;s impact</strong> on your future and the state</li>\n	<li><strong>Ask any question</strong> you have on AI and Professor Joe will answer it</li>\n	<li><strong>Get free 3-month access</strong> to our AI platform (like ChatGPT)</li>\n	<li><strong>Get discount vouchers</strong> for Emory&#39\;s online AI certification</li>\n</ul>\n<br />\nFood and beverages provided. <a href="https://chambermaster.blob.core.windows.net/userfiles/UserFiles/chambers/1202/File/Event_Docs/AIYouEventFlyer-Cartersville2024.pdf" target="_blank">View event flyer</a>.
LOCATION:Cartersville-Bartow Chamber 122 W. Main Street Cartersville\, GA 30120
UID:e.1202.165987
SEQUENCE:3
DTSTAMP:20260422T214055Z
URL:https://business.cartersvillechamber.com/events/details/ai-you-165987
END:VEVENT

END:VCALENDAR
