BEGIN:VCALENDAR
VERSION:2.0
PRODID:-//ChamberMaster//Event Calendar 2.0//EN
METHOD:PUBLISH
X-PUBLISHED-TTL:P3D
REFRESH-INTERVAL:P3D
CALSCALE:GREGORIAN
BEGIN:VEVENT
DTSTART:20250221T140000Z
DTEND:20250221T170000Z
X-MICROSOFT-CDO-ALLDAYEVENT:FALSE
SUMMARY:Arbor Day
DESCRIPTION:Come get some free trees! Keep Bartow Beautiful will be providing dogwood and bald cypress trees for 2025. There will be 6 location pick-up spots.\n\n1.Bartow County Courthouse\n\n2.Downtown Shakespeare Garden\n\n3.Adairsville City Hall\n\n4.Doug's Restaurant (8 am start)\n\n5.Kingston Dollar General Store\n\n6.White City Hall
X-ALT-DESC;FMTTYPE=text/html:Come get some free trees! Keep Bartow Beautiful will be providing dogwood and bald cypress trees for 2025. There will be 6 location pick-up spots.<br />\n1.Bartow County Courthouse<br />\n2.Downtown Shakespeare Garden<br />\n3.Adairsville City Hall<br />\n4.Doug&#39\;s Restaurant (8 am start)<br />\n5.Kingston Dollar General Store<br />\n6.White City Hall
LOCATION:Multiple locations see description
UID:e.1202.168266
SEQUENCE:3
DTSTAMP:20260422T115330Z
URL:https://business.cartersvillechamber.com/events/details/arbor-day-168266
END:VEVENT

END:VCALENDAR
