BEGIN:VCALENDAR
VERSION:2.0
PRODID:-//ChamberMaster//Event Calendar 2.0//EN
METHOD:PUBLISH
X-PUBLISHED-TTL:P3D
REFRESH-INTERVAL:P3D
CALSCALE:GREGORIAN
BEGIN:VEVENT
DTSTART:20251115T150000Z
DTEND:20251115T171500Z
X-MICROSOFT-CDO-ALLDAYEVENT:FALSE
SUMMARY:Archery is Amazing
DESCRIPTION:Archery is an exciting hobby\, sport\, and is great fun for all ages. Not to mention... You would look SO much cooler with a bow in your hand\, shooting arrows at high speed! We also just so happen to have the equipment and the know-how to get your shots where you want them. Pre-registration is required in order to guarantee your spot. Ages 8+ only. Meet at the Green Gazebo behind the Visitors Center. No loose-fitting clothing or open-toed shoes permitted.
X-ALT-DESC;FMTTYPE=text/html:Archery is an exciting hobby\, sport\, and is great fun for all ages. Not to mention... You would look SO much cooler with a bow in your hand\, shooting arrows at high speed! We also just so happen to have the equipment and the know-how to get your shots where you want them. Pre-registration is required in order to guarantee your spot. Ages 8+ only. Meet at the Green Gazebo behind the Visitors Center. No loose-fitting clothing or open-toed shoes permitted.
LOCATION:Red Top Mountain State Park 50 Lodge Rd Acworth\, GA Red Top Mountain State Park 50 Lodge Road Acworth\, GA Red Top Mountain State Park 50 Lodge Road Acworth\, GA 30102
UID:e.1202.172017
SEQUENCE:3
DTSTAMP:20260421T231352Z
URL:https://business.cartersvillechamber.com/events/details/archery-is-amazing-11-15-2025-172017
END:VEVENT

END:VCALENDAR
