BEGIN:VCALENDAR
VERSION:2.0
PRODID:-//ChamberMaster//Event Calendar 2.0//EN
METHOD:PUBLISH
X-PUBLISHED-TTL:P3D
REFRESH-INTERVAL:P3D
CALSCALE:GREGORIAN
BEGIN:VEVENT
DTSTART:20260401T161500Z
DTEND:20260401T173000Z
X-MICROSOFT-CDO-ALLDAYEVENT:FALSE
SUMMARY:Art for Lunch: Mark Medley
DESCRIPTION:Art For Lunch: Mark Medley: The West in Focus: Indigenous People\n\nWednesday\, April 1\, 2026\, 12:15 PM - 1:30 PM\n\n\n\nThis midday presentation\, inspired by the current exhibition\, The West in Focus: Indigenous People\, is a look at the Indigenous people and artists represented in the Booth Museum's permanent photography collection. Curator of Photography Mark Medley will present a range of works by both Native and non-Native photographers\, from nineteenth-century pioneers including William Henry Jackson\, Jennie Ross Cobb\, and Edward S. Curtis to modern artists such as Zo  Marieh Urness\, Kevin Garrett\, and Douglas Miles. A particular highlight will be eight portraits of Native American survivors of the Battle of the Little Bighorn\, made during a 1948 reunion by South Dakota photographer Bill Groethe.\n\n\n\nLunch will be available for $15.00 plus tax. Deadline to register for lunch is Noon\, March 31. Go to boothmuseum.org to make your reservation for lunch or watch LIVE on Booth Museum's Facebook page and YouTube channel. Attendees are encouraged to arrive early. Program included with admission. No outside food or beverages.
X-ALT-DESC;FMTTYPE=text/html:Art For Lunch: Mark Medley: The West in Focus: Indigenous People<br />\nWednesday\, April 1\, 2026\, 12:15 PM - 1:30 PM<br />\n<br />\nThis midday presentation\, inspired by the current exhibition\, The West in Focus: Indigenous People\, is a look at the Indigenous people and artists represented in the Booth Museum&rsquo\;s permanent photography collection. Curator of Photography Mark Medley will present a range of works by both Native and non-Native photographers\, from nineteenth-century pioneers including William Henry Jackson\, Jennie Ross Cobb\, and Edward S. Curtis to modern artists such as Zo&euml\; Marieh Urness\, Kevin Garrett\, and Douglas Miles. A particular highlight will be eight portraits of Native American survivors of the Battle of the Little Bighorn\, made during a 1948 reunion by South Dakota photographer Bill Groethe.<br />\n<br />\nLunch will be available for $15.00 plus tax. Deadline to register for lunch is Noon\, March 31. Go to <a href="https://boothmuseum.org/event/art-for-lunch-mark-medley-the-west-in-focus-indigenous-people/" target="_blank">boothmuseum.org</a> to make your reservation for lunch or watch LIVE on Booth Museum&rsquo\;s Facebook page and YouTube channel. Attendees are encouraged to arrive early. Program included with admission. No outside food or beverages.
LOCATION:Ballroom at The Booth Museum 501 N Museum Drive\, Cartersville\, GA 30120
UID:e.1202.173873
SEQUENCE:3
DTSTAMP:20260419T193145Z
URL:https://business.cartersvillechamber.com/events/details/art-for-lunch-mark-medley-173873
END:VEVENT

END:VCALENDAR
