BEGIN:VCALENDAR
VERSION:2.0
PRODID:-//ChamberMaster//Event Calendar 2.0//EN
METHOD:PUBLISH
X-PUBLISHED-TTL:P3D
REFRESH-INTERVAL:P3D
CALSCALE:GREGORIAN
BEGIN:VEVENT
DTSTART:20250606T130000Z
DTEND:20250606T143000Z
X-MICROSOFT-CDO-ALLDAYEVENT:FALSE
SUMMARY:Art in Bartow
DESCRIPTION:Come view the beautiful art our city has to offer! Hannah Cook from Art in Bartow will lead us on a walking tour around Cartersville to experience firsthand the creativity on display. Adults only\, please. Registration is required\, please give us a call at 770-382-4203 ext. 138 or stop by the Reference Desk at the Cartersville Library!
X-ALT-DESC;FMTTYPE=text/html:<span style="color:rgb(62\, 62\, 62)\; font-family:system-ui\; font-size:12.8px">Come view the beautiful art our city has to offer! Hannah Cook from Art in Bartow will lead us on a walking tour around Cartersville to experience firsthand the creativity on display. Adults only\, please. Registration is required\, please give us a call at 770-382-4203 ext. 138 or stop by the Reference Desk at the Cartersville Library!</span>
LOCATION:Cartersville Library and the City of Cartersville
UID:e.1202.170896
SEQUENCE:3
DTSTAMP:20260422T062237Z
URL:https://business.cartersvillechamber.com/events/details/art-in-bartow-170896
END:VEVENT

END:VCALENDAR
