BEGIN:VCALENDAR
VERSION:2.0
PRODID:-//ChamberMaster//Event Calendar 2.0//EN
METHOD:PUBLISH
X-PUBLISHED-TTL:P3D
REFRESH-INTERVAL:P3D
CALSCALE:GREGORIAN
BEGIN:VEVENT
DTSTART:20260512T140000Z
DTEND:20260512T150000Z
X-MICROSOFT-CDO-ALLDAYEVENT:FALSE
SUMMARY:Arthritis Workshop- Hurt Less\, Move Better
DESCRIPTION:In This Free Workshop\, You'll Learn:\n\n	The Movement-Pain Connection: Discover how specific\, guided movement can actually calm joint pain and stiffness not worsen it.\n	Practical Strategies: Get safe exercises and daily habit modifications you can use immediately to improve your mobility and function.\n	Empowerment Over Your Health: Learn how to take control and become the active manager of your arthritis symptoms.\n	The Path Forward: Walk away with clear steps to get back to the activities you love\, with less fear and more confidence.
X-ALT-DESC;FMTTYPE=text/html:In This Free Workshop\, You&rsquo\;ll Learn:\n<ul>\n	<li>The Movement-Pain Connection: Discover how specific\, guided movement can actually calm joint pain and stiffness&mdash\;not worsen it.</li>\n	<li>Practical Strategies: Get safe exercises and daily habit modifications you can use immediately to improve your mobility and function.</li>\n	<li>Empowerment Over Your Health: Learn how to take control and become the active manager of your arthritis symptoms.</li>\n	<li>The Path Forward: Walk away with clear steps to get back to the activities you love\, with less fear and more confidence.</li>\n</ul>\n
LOCATION:Shift Therapy and Wellness 23 Maple Ridge Dr SE Suite D Cartersville\, GA 30121
UID:e.1202.174050
SEQUENCE:3
DTSTAMP:20260421T171557Z
URL:https://business.cartersvillechamber.com/events/details/arthritis-workshop-hurt-less-move-better-174050
END:VEVENT

END:VCALENDAR
