BEGIN:VCALENDAR
VERSION:2.0
PRODID:-//ChamberMaster//Event Calendar 2.0//EN
METHOD:PUBLISH
X-PUBLISHED-TTL:P3D
REFRESH-INTERVAL:P3D
CALSCALE:GREGORIAN
BEGIN:VEVENT
DTSTART:20250815T130000Z
DTEND:20250815T140000Z
X-MICROSOFT-CDO-ALLDAYEVENT:FALSE
SUMMARY:"Artificial Intelligence from Google" Workshop
DESCRIPTION:"Artificial Intelligence from Google" Workshop\n\n\n\nFriday\, August 15\, 2025\, 9 AM - 10 AM\n\nFee: Free\n\n\n\nRegister Online\n\n\n\nArtificial Intelligence (AI) is a powerful technology that can help simplify business tasks and create new opportunities for small businesses and entrepreneurs   but knowing how to use it may seem out of reach. Developed with input from experts at Google\, this workshop will explain:\n\n	The basics of AI\n	How AI-powered tools by Google can help small businesses be:\n	\n		More efficient\n		Enhance customer experiences\n		Drive growth.
X-ALT-DESC;FMTTYPE=text/html:<strong>&quot\;Artificial Intelligence from Google</strong><strong>&quot\; Workshop<br />\n<br />\nFriday\, August 15\, 2025\, 9 AM - 10 AM<br />\nFee: Free</strong><br />\n<br />\n<a href="https://www.score.org/northmetroatlanta/event/artificial-intelligence-google-0" target="_blank">Register Online</a><br />\n<br />\nArtificial Intelligence (AI) is a powerful technology that can help simplify business tasks and create new opportunities for small businesses and entrepreneurs &ndash\; but knowing how to use it may seem out of reach. Developed with input from experts at Google\, this workshop will explain:\n<ul>\n	<li>The basics of AI</li>\n	<li>How AI-powered tools by Google can help small businesses be:\n	<ul>\n		<li>More efficient</li>\n		<li>Enhance customer experiences</li>\n		<li>Drive growth.</li>\n	</ul>\n	</li>\n</ul>\n
LOCATION:Online Workshop
UID:e.1202.171554
SEQUENCE:3
DTSTAMP:20260422T032536Z
URL:https://business.cartersvillechamber.com/events/details/artificial-intelligence-from-google-workshop-171554
END:VEVENT

END:VCALENDAR
