BEGIN:VCALENDAR
VERSION:2.0
PRODID:-//ChamberMaster//Event Calendar 2.0//EN
METHOD:PUBLISH
X-PUBLISHED-TTL:P3D
REFRESH-INTERVAL:P3D
CALSCALE:GREGORIAN
BEGIN:VEVENT
DTSTART:20251117T140000Z
DTEND:20251117T150000Z
X-MICROSOFT-CDO-ALLDAYEVENT:FALSE
SUMMARY:"Artificial Intelligence from Google" Workshop
DESCRIPTION:"Artificial Intelligence from Google" Workshop\n\n\n\nMonday\, November 17\, 2025\, 9 AM - 10 AM\n\nFee: Free\n\n\n\nRegister Online\n\n\n\nArtificial Intelligence (AI) can be a powerful tool for small businesses looking to grow and operate more efficiently.\n\n\n\nIn this Live Online Workshop learn how Gemini can enhance productivity and efficiency through:\n\n	Automation of Repetitive Tasks\n	Document Handling\n	Time Management\n\n\n\nUse Gemini to improve your marketing and sales efforts by assisting with:\n\n\n	Generating Social Media Content\n	Developing Marketing Campaigns\n	Creating Sales Pitch Materials\, Proposals\, Customized Messaging\n	Market Research\n\n\n\nThe time you free up by simplifying business tasks can be turned to identifying new opportunities to pursue.
X-ALT-DESC;FMTTYPE=text/html:<strong>&quot\;Artificial Intelligence from Google</strong><strong>&quot\; Workshop<br />\n<br />\nMonday\, November 17\, 2025\, 9 AM - 10 AM<br />\nFee: Free</strong><br />\n<br />\n<a href="https://www.score.org/northmetroatlanta/event/artificial-intelligence-google-1" target="_blank">Register Online</a><br />\n<br />\nArtificial Intelligence (AI) can be a powerful tool for small businesses looking to grow and operate more efficiently.<br />\n<br />\nIn this <strong>Live Online Workshop</strong> learn how Gemini can <em>enhance productivity and efficiency</em> through:\n<ul>\n	<li>Automation of Repetitive Tasks</li>\n	<li>Document Handling</li>\n	<li>Time Management</li>\n</ul>\n<br />\nUse Gemini to <em>improve your marketing and sales efforts</em> by assisting with:\n\n<ul>\n	<li>Generating Social Media Content</li>\n	<li>Developing Marketing Campaigns</li>\n	<li>Creating Sales Pitch Materials\, Proposals\, Customized Messaging</li>\n	<li>Market Research</li>\n</ul>\n<br />\nThe time you free up by simplifying business tasks can be turned to identifying new opportunities to pursue.
LOCATION:Online Workshop
UID:e.1202.171968
SEQUENCE:3
DTSTAMP:20260421T230523Z
URL:https://business.cartersvillechamber.com/events/details/artificial-intelligence-from-google-workshop-171968
END:VEVENT

END:VCALENDAR
