BEGIN:VCALENDAR
VERSION:2.0
PRODID:-//ChamberMaster//Event Calendar 2.0//EN
METHOD:PUBLISH
X-PUBLISHED-TTL:P3D
REFRESH-INTERVAL:P3D
CALSCALE:GREGORIAN
BEGIN:VEVENT
DTSTART:20250212T220000Z
DTEND:20250212T230000Z
X-MICROSOFT-CDO-ALLDAYEVENT:FALSE
SUMMARY:Artist Gallery Reception for Grayson Dailey
DESCRIPTION:Join us for a celebration of Grayson Dailey's photography displayed in our Art Gallery. Light refreshments will be provided. Pieces will be on display through March 2025.
X-ALT-DESC;FMTTYPE=text/html:<span style="color:rgb(62\, 62\, 62)\; font-family:system-ui\; font-size:12.8px">Join us for a celebration of Grayson Dailey&#39\;s photography displayed in our Art Gallery. Light refreshments will be provided. Pieces will be on display through March 2025.</span>
LOCATION:Cartersville Library Art Gallery
UID:e.1202.168663
SEQUENCE:3
DTSTAMP:20260422T115905Z
URL:https://business.cartersvillechamber.com/events/details/artist-gallery-reception-for-grayson-dailey-168663
END:VEVENT

END:VCALENDAR
