BEGIN:VCALENDAR
VERSION:2.0
PRODID:-//ChamberMaster//Event Calendar 2.0//EN
METHOD:PUBLISH
X-PUBLISHED-TTL:P3D
REFRESH-INTERVAL:P3D
CALSCALE:GREGORIAN
BEGIN:VEVENT
DTSTART:20251216T220000Z
DTEND:20251216T230000Z
X-MICROSOFT-CDO-ALLDAYEVENT:FALSE
SUMMARY:Artist Gallery Reception: Phillip Pruitt
DESCRIPTION:Join us for light refreshments as we celebrate our new Art Gallery artist for December-January.
X-ALT-DESC;FMTTYPE=text/html:Join us for light refreshments as we celebrate our new Art Gallery artist for December-January.&nbsp\;
LOCATION:Cartersville Public Library Art Gallery 429 W Main St. Cartersville\, GA 30121
UID:e.1202.172133
SEQUENCE:3
DTSTAMP:20260421T214745Z
URL:https://business.cartersvillechamber.com/events/details/artist-gallery-reception-phillip-pruitt-172133
END:VEVENT

END:VCALENDAR
