BEGIN:VCALENDAR
VERSION:2.0
PRODID:-//ChamberMaster//Event Calendar 2.0//EN
METHOD:PUBLISH
X-PUBLISHED-TTL:P3D
REFRESH-INTERVAL:P3D
CALSCALE:GREGORIAN
BEGIN:VEVENT
DTSTART:20240806T210000Z
DTEND:20240806T220000Z
X-MICROSOFT-CDO-ALLDAYEVENT:FALSE
SUMMARY:Artist Reception: Angela DeValentino
DESCRIPTION:Join us as we celebrate the artwork of Angela DeValentino.  Come see the art exhibit and enjoy light refreshments.
X-ALT-DESC;FMTTYPE=text/html:<span style="background-color:rgb(255\, 255\, 255)\; color:rgb(62\, 62\, 62)\; font-family:system-ui\; font-size:12.8px">Join us as we celebrate the artwork of Angela DeValentino.&nbsp\; Come see the art exhibit and enjoy light refreshments.</span><br />\n<br />\n&nbsp\;
LOCATION:Cartersville Library Art Gallery
UID:e.1202.165958
SEQUENCE:3
DTSTAMP:20260422T202104Z
URL:https://business.cartersvillechamber.com/events/details/artist-reception-angela-devalentino-165958
END:VEVENT

END:VCALENDAR
