BEGIN:VCALENDAR
VERSION:2.0
PRODID:-//ChamberMaster//Event Calendar 2.0//EN
METHOD:PUBLISH
X-PUBLISHED-TTL:P3D
REFRESH-INTERVAL:P3D
CALSCALE:GREGORIAN
BEGIN:VEVENT
DTSTART:20240720T140000Z
DTEND:20240720T210000Z
X-MICROSOFT-CDO-ALLDAYEVENT:FALSE
SUMMARY:Authentix Apartments Open House
DESCRIPTION:Come in to see our Clubhouse\, Gym\, Pool and tour our 1\,2 and 3 bedrooms and enjoy snacks\, soft drinks and coffee and enter to win a 50" TV! Across the street from the Savoy Museum.
X-ALT-DESC;FMTTYPE=text/html:Come in to see our Clubhouse\, Gym\, Pool and tour our 1\,2 and 3 bedrooms and enjoy snacks\, soft drinks and coffee and enter to win a 50&quot\; TV! Across the street from the Savoy Museum.
LOCATION:Authentix Cartersville 5000 Hwy 20 NE Cartersville GA
UID:e.1202.166133
SEQUENCE:3
DTSTAMP:20260422T214223Z
URL:https://business.cartersvillechamber.com/events/details/authentix-apartments-open-house-166133
END:VEVENT

END:VCALENDAR
