BEGIN:VCALENDAR
VERSION:2.0
PRODID:-//ChamberMaster//Event Calendar 2.0//EN
METHOD:PUBLISH
X-PUBLISHED-TTL:P3D
REFRESH-INTERVAL:P3D
CALSCALE:GREGORIAN
BEGIN:VEVENT
DTSTART:20251101T143000Z
DTEND:20251101T153000Z
X-MICROSOFT-CDO-ALLDAYEVENT:FALSE
SUMMARY:Autumn's Wonder Hike
DESCRIPTION:Celebrate Fall with Red Top Mountain State Park on a hike through the woods to admire the beautiful foliage. We'll explore local trees and wildflowers\, and binoculars are recommended for potential wildlife sightings. Call today to reserve your spot!
X-ALT-DESC;FMTTYPE=text/html:Celebrate Fall with Red Top Mountain State Park&nbsp\;on a hike through the woods to admire the beautiful foliage. We&rsquo\;ll explore local trees and wildflowers\, and binoculars are recommended for potential wildlife sightings. Call today to reserve your spot!
LOCATION:Red Top Mountain State Park 50 Lodge Rd. Acworth\, GA
UID:e.1202.171994
SEQUENCE:3
DTSTAMP:20260421T231219Z
URL:https://business.cartersvillechamber.com/events/details/autumn-s-wonder-hike-171994
END:VEVENT

END:VCALENDAR
