BEGIN:VCALENDAR
VERSION:2.0
PRODID:-//ChamberMaster//Event Calendar 2.0//EN
METHOD:PUBLISH
X-PUBLISHED-TTL:P3D
REFRESH-INTERVAL:P3D
CALSCALE:GREGORIAN
BEGIN:VEVENT
DTSTART:20250218T233000Z
DTEND:20250219T010000Z
X-MICROSOFT-CDO-ALLDAYEVENT:FALSE
SUMMARY:B.I.N.G.O.
DESCRIPTION:BINGO!\n\nNothing to learn\, easy to play\, fun for all\, PRIZES!
X-ALT-DESC;FMTTYPE=text/html:BINGO!<br />\nNothing to learn\, easy to play\, fun for all\, PRIZES!
LOCATION:Olive Tree & Vine 26 W Main St Cartersville
UID:e.1202.168216
SEQUENCE:3
DTSTAMP:20260422T115559Z
URL:https://business.cartersvillechamber.com/events/details/b-i-n-g-o-168216
END:VEVENT

END:VCALENDAR
