BEGIN:VCALENDAR
VERSION:2.0
PRODID:-//ChamberMaster//Event Calendar 2.0//EN
METHOD:PUBLISH
X-PUBLISHED-TTL:P3D
REFRESH-INTERVAL:P3D
CALSCALE:GREGORIAN
BEGIN:VEVENT
DTSTART:20250712T140000Z
DTEND:20250712T180000Z
X-MICROSOFT-CDO-ALLDAYEVENT:FALSE
SUMMARY:Back To School Bash
DESCRIPTION:Join us in our 2nd annual Back To School Bash. Giving out school supplies and hygiene products. Live music\, games\, vendors\, food trucks\, dunk-a-cop\, and more!
X-ALT-DESC;FMTTYPE=text/html:Join us in our 2nd annual Back To School Bash. Giving out school supplies and hygiene products. Live music\, games\, vendors\, food trucks\, dunk-a-cop\, and more!
LOCATION:Downtown Cartersville on the square!
UID:e.1202.170767
SEQUENCE:3
DTSTAMP:20260422T050129Z
URL:https://business.cartersvillechamber.com/events/details/back-to-school-bash-07-12-2025-170767
END:VEVENT

END:VCALENDAR
