BEGIN:VCALENDAR
VERSION:2.0
PRODID:-//ChamberMaster//Event Calendar 2.0//EN
METHOD:PUBLISH
X-PUBLISHED-TTL:P3D
REFRESH-INTERVAL:P3D
CALSCALE:GREGORIAN
BEGIN:VEVENT
DTSTART:20260512T170000Z
DTEND:20260512T180000Z
X-MICROSOFT-CDO-ALLDAYEVENT:FALSE
SUMMARY:Balance and Falls Workshop
DESCRIPTION:We're hosting a FREE Balance and Fall Risk Workshop right here in Cartersville -- and if you've been feeling unsteady\, worried about falling\, or noticing changes in your balance\, this is an event for you. Join Lindsey Bellcase and the team at Shift Therapy and Wellness for this educational and interactive workshop designed to help you improve stability\, confidence\, and overall movement so you can stay active and independent.
X-ALT-DESC;FMTTYPE=text/html:We&#39\;re hosting a FREE Balance and Fall Risk Workshop right here in Cartersville -- and if you&#39\;ve been feeling unsteady\, worried about falling\, or noticing changes in your balance\, this is an event for you. Join Lindsey Bellcase and the team at Shift Therapy and Wellness for this educational and interactive workshop designed to help you improve stability\, confidence\, and overall movement so you can stay active and independent.
LOCATION:Shift Therapy and Wellness 23 Maple Ridge Dr SE Suite D Cartersville\, GA 30121
UID:e.1202.174051
SEQUENCE:3
DTSTAMP:20260421T171617Z
URL:https://business.cartersvillechamber.com/events/details/balance-and-falls-workshop-174051
END:VEVENT

END:VCALENDAR
