BEGIN:VCALENDAR
VERSION:2.0
PRODID:-//ChamberMaster//Event Calendar 2.0//EN
METHOD:PUBLISH
X-PUBLISHED-TTL:P3D
REFRESH-INTERVAL:P3D
CALSCALE:GREGORIAN
BEGIN:VEVENT
DTSTART:20251101T160000Z
DTEND:20251102T010000Z
X-MICROSOFT-CDO-ALLDAYEVENT:FALSE
SUMMARY:Barnsley's Biggest Barbeque Party with Rusty's Bar-B-Q
DESCRIPTION:November 1 | Biergarten Barnsley's Biggest Barbeque Party with Rusty's Bar-B-Q\n\n12 - 9 p.m.\n\n\n\nIt's a classic tailgate party\, Biergarten style! Join us as special guest pitmaster Rusty Tucker\, an active member of the Southern Foodways Alliance\, from Birmingham's award-winning Rusty's Bar-B-Q smokes a whole hog in the Biergarten's custom-built J&R Smoker. Throughout the day\, watch the college football lineup on the large-screen TVs including Georgia vs Florida.
X-ALT-DESC;FMTTYPE=text/html:November 1 | Biergarten Barnsley&#39\;s Biggest Barbeque Party with Rusty&#39\;s Bar-B-Q<br />\n12 - 9 p.m.<br />\n<br />\nIt&rsquo\;s a classic tailgate party\, Biergarten style! Join us as special guest pitmaster Rusty Tucker\, an active member of the Southern Foodways Alliance\, from Birmingham&rsquo\;s award-winning Rusty&rsquo\;s Bar-B-Q smokes a whole hog in the Biergarten&rsquo\;s custom-built J&amp\;R Smoker. Throughout the day\, watch the college football lineup on the large-screen TVs including Georgia vs Florida.
LOCATION:Barnsley Resort
UID:e.1202.171986
SEQUENCE:3
DTSTAMP:20260421T232550Z
URL:https://business.cartersvillechamber.com/events/details/barnsley-s-biggest-barbeque-party-with-rusty-s-bar-b-q-171986
END:VEVENT

END:VCALENDAR
