BEGIN:VCALENDAR
VERSION:2.0
PRODID:-//ChamberMaster//Event Calendar 2.0//EN
METHOD:PUBLISH
X-PUBLISHED-TTL:P3D
REFRESH-INTERVAL:P3D
CALSCALE:GREGORIAN
BEGIN:VEVENT
DTSTART:20240422T113000Z
DTEND:20240422T180000Z
X-MICROSOFT-CDO-ALLDAYEVENT:FALSE
SUMMARY:Bartow Back the Blue Golf Tournament
DESCRIPTION:Bartow Back the Blue Golf Tournament\n\n\n\nMonday\, April 22\, 2024\n\nCartersville Country Club\n\nDownload the Registration Form\n\n\n\n$125 per player. 100% of the proceeds will be donated to Bartow Back the Blue.\n\nSend your registration or team info to bbtbgolf@gmail.com.\n\n\n\nSpecial Thanks to the Following Sponsors:\n\nCountry Financial\, Wood's Tree Service\, & Bond\, James Bond\, Inc.
X-ALT-DESC;FMTTYPE=text/html:Bartow Back the Blue Golf Tournament<br />\n<br />\nMonday\, April 22\, 2024<br />\nCartersville Country Club<br />\n<a href="https://chambermaster.blob.core.windows.net/userfiles/UserFiles/chambers/1202/File/Event_Docs/BartowBacktheBlue2024GolfTournament.pdf" target="_blank">Download the Registration Form</a><br />\n<br />\n$125 per player. 100% of the proceeds will be donated to Bartow Back the Blue.<br />\nSend your registration or team info to <a href="mailto:bbtbgolf@gmail.com">bbtbgolf@gmail.com</a>.<br />\n<br />\nSpecial Thanks to the Following Sponsors:<br />\nCountry Financial\, Wood&#39\;s Tree Service\, &amp\; Bond\, James Bond\, Inc.
LOCATION:Cartersville Country Club 13010 JFH Pkwy Cartersville\, GA 30120
UID:e.1202.164256
SEQUENCE:3
DTSTAMP:20260423T021409Z
URL:https://business.cartersvillechamber.com/events/details/bartow-back-the-blue-golf-tournament-164256
END:VEVENT

END:VCALENDAR
