BEGIN:VCALENDAR
VERSION:2.0
PRODID:-//ChamberMaster//Event Calendar 2.0//EN
METHOD:PUBLISH
X-PUBLISHED-TTL:P3D
REFRESH-INTERVAL:P3D
CALSCALE:GREGORIAN
BEGIN:VEVENT
DTSTART:20241021T120000Z
DTEND:20241021T210000Z
X-MICROSOFT-CDO-ALLDAYEVENT:FALSE
SUMMARY:Bartow County Advanced Voting 2024
DESCRIPTION:Bartow County Advanced Voting 2024\n\nNovember 5th General Election\n\n\n\nTuesday\, October 15 - Saturday\, October 19 | 8 AM - 5 PM\n\n	Bartow County Elections Office | 1300 Joe Frank Harris Pkwy\, Cartersville\, GA 30120\n	Cartersville Civic Center | 435 W. Main Street\, Cartersville\, GA 30120\n\nMonday\, October 21 - Saturday\, October 26 | 8 AM - 5 PM\n\n\n	Bartow County Elections Office | 1300 Joe Frank Harris Pkwy\, Cartersville\, GA 30120\n	Cartersville Civic Center | 435 W. Main Street\, Cartersville\, GA 30120\n\nMonday\, October 28 - Friday\, November 1 | 8 AM - 6 PM\n\n\n	Bartow County Elections Office | 1300 Joe Frank Harris Pkwy\, Cartersville\, GA 30120\n	Cartersville Civic Center | 435 W. Main Street\, Cartersville\, GA 30120\n	Manning Mill Gym | 163 Manning Mill Road\, Adairsville\, GA 30103\n	Allatoona Resource Center | 6503 Allatoona Gateway\, Acworth\, GA 30102
X-ALT-DESC;FMTTYPE=text/html:<br />\n<span style="font-size:20px\;"><strong>Bartow County Advanced Voting 2024</strong></span><br />\n<strong style="font-size: 20px\;">November 5th General Election</strong><br />\n<br />\n<s><span style="font-size:16px\;"><u><strong>Tuesday\, October 15 - Saturday\, October 19 | 8 AM - 5 PM</strong></u></span></s>\n<ul>\n	<li><s><strong>Bartow County Elections Office</strong> | 1300 Joe Frank Harris Pkwy\, Cartersville\, GA 30120</s></li>\n	<li><s><strong>Cartersville Civic Center</strong> | 435 W. Main Street\, Cartersville\, GA 30120</s></li>\n</ul>\n<span style="font-size:16px\;"><u><strong>Monday\, October 21 - Saturday\, October 26 | 8 AM - 5 PM</strong></u></span>\n\n<ul>\n	<li><strong>Bartow County Elections Office</strong> | 1300 Joe Frank Harris Pkwy\, Cartersville\, GA 30120</li>\n	<li><strong>Cartersville Civic Center</strong> | 435 W. Main Street\, Cartersville\, GA 30120</li>\n</ul>\n<span style="font-size:16px\;"><u><strong>Monday\, October 28 - Friday\, November 1 | 8 AM - 6 PM</strong></u></span>\n\n<ul>\n	<li><strong>Bartow County Elections Office</strong> | 1300 Joe Frank Harris Pkwy\, Cartersville\, GA 30120</li>\n	<li><strong>Cartersville Civic Center</strong> | 435 W. Main Street\, Cartersville\, GA 30120</li>\n	<li><strong>Manning Mill Gym</strong> | 163 Manning Mill Road\, Adairsville\, GA 30103</li>\n	<li><strong>Allatoona Resource Center </strong>| 6503 Allatoona Gateway\, Acworth\, GA 30102</li>\n</ul>\n
LOCATION:
UID:e.1202.166233
SEQUENCE:3
DTSTAMP:20260422T171905Z
URL:https://business.cartersvillechamber.com/events/details/bartow-county-advanced-voting-2024-166233
END:VEVENT

END:VCALENDAR
