BEGIN:VCALENDAR
VERSION:2.0
PRODID:-//ChamberMaster//Event Calendar 2.0//EN
METHOD:PUBLISH
X-PUBLISHED-TTL:P3D
REFRESH-INTERVAL:P3D
CALSCALE:GREGORIAN
BEGIN:VEVENT
DTSTART:20250322T130000Z
DTEND:20250322T170000Z
X-MICROSOFT-CDO-ALLDAYEVENT:FALSE
SUMMARY:Bartow County Republican Convention
DESCRIPTION:The Bartow County Republican Party Convention will convene at 10AM\, on Saturday\, March 22\, 2025\, at Euharlee Baptist Church\, 1103 Euharlee Road SW\, Euharlee\, GA 30145 to elect Delegates and Alternates to the 11th Congressional District Convention and State Convention. Additionally\, the Convention will conduct all other business as necessary. Delegates and Alternates will be required to pay a fee of $25\, which is to cover the cost of the County Convention. \n\n\n\nRegistration will open at 9AM at Euharlee Baptist Church\, 1103 Euharlee Rd.\, SW\, Euharlee\, GA 30145\, for the County Convention. Doors close at 10AM sharp. Participants must be at registration prior to 10AM in order to participate.
X-ALT-DESC;FMTTYPE=text/html:The Bartow County Republican Party Convention will convene at 10AM\, on Saturday\, March 22\, 2025\, at Euharlee Baptist Church\, 1103 Euharlee Road SW\, Euharlee\, GA 30145 to elect Delegates and Alternates to the 11th Congressional District Convention and State Convention. Additionally\, the Convention will conduct all other business as necessary. Delegates and Alternates will be required to pay a fee of $25\, which is to cover the cost of the County Convention.&nbsp\;<br />\n<br />\nRegistration will open at 9AM at Euharlee Baptist Church\, 1103 Euharlee Rd.\, SW\, Euharlee\, GA 30145\, for the County Convention. Doors close at 10AM sharp. Participants must be at registration prior to 10AM in order to participate.&nbsp\;
LOCATION:Euharlee Baptist Church 1103 Euharlee Rd SW Euharlee\, GA 30145
UID:e.1202.168676
SEQUENCE:3
DTSTAMP:20260422T102935Z
URL:https://business.cartersvillechamber.com/events/details/bartow-county-republican-convention-168676
END:VEVENT

END:VCALENDAR
