BEGIN:VCALENDAR
VERSION:2.0
PRODID:-//ChamberMaster//Event Calendar 2.0//EN
METHOD:PUBLISH
X-PUBLISHED-TTL:P3D
REFRESH-INTERVAL:P3D
CALSCALE:GREGORIAN
BEGIN:VEVENT
DTSTART:20250222T150000Z
DTEND:20250222T180000Z
X-MICROSOFT-CDO-ALLDAYEVENT:FALSE
SUMMARY:Bartow County Republican Party Precinct Caucus
DESCRIPTION:On Saturday\, February 22\, 2025\, the Bartow County Republican Party will convene Precinct Caucus meetings to elect Delegates and Alternates to the Bartow County Republican Party Convention.\n\n\n\nAll residents legally registered to vote in Bartow County as of the date of each convention\, and who believe in the principles of the Republican Party\, are encouraged to participate in this process.\n\n\n\nRegistration will open at 9AM\, at Euharlee Baptist Church\, 1103 Euharlee Road SW\, Euharlee\, Ga. 30145\, for Precinct Caucuses 2025. Doors close at 10AM sharp. Participants must be at registration prior to 10AM in order to participate.
X-ALT-DESC;FMTTYPE=text/html:On Saturday\, February 22\, 2025\, the Bartow County Republican Party will convene Precinct Caucus meetings to elect Delegates and Alternates to the Bartow County Republican Party Convention.<br />\n<br />\nAll residents legally registered to vote in Bartow County as of the date of each convention\, and who believe in the principles of the Republican Party\, are encouraged to participate in this process.<br />\n<br />\nRegistration will open at 9AM\, at Euharlee Baptist Church\, 1103 Euharlee Road SW\, Euharlee\, Ga. 30145\, for Precinct Caucuses 2025. Doors close at 10AM sharp. Participants must be at registration prior to 10AM in order to participate.&nbsp\;
LOCATION:Euharlee Baptist Church 1103 Euharlee Rd. Euharlee\, Ga
UID:e.1202.168260
SEQUENCE:3
DTSTAMP:20260422T115707Z
URL:https://business.cartersvillechamber.com/events/details/bartow-county-republican-party-precinct-caucus-168260
END:VEVENT

END:VCALENDAR
