BEGIN:VCALENDAR
VERSION:2.0
PRODID:-//ChamberMaster//Event Calendar 2.0//EN
METHOD:PUBLISH
X-PUBLISHED-TTL:P3D
REFRESH-INTERVAL:P3D
CALSCALE:GREGORIAN
BEGIN:VEVENT
DTSTART:20250227T150000Z
DTEND:20250227T160000Z
X-MICROSOFT-CDO-ALLDAYEVENT:FALSE
SUMMARY:Basic Italian Language Class
DESCRIPTION:Introduction to Italian language taught by Carla D'Avino.  Students will use familiar everyday expressions and simple sentences to satisfy conversation needs.\n\nRegistration and $13 class fee required (9 classes for $117.)  \n\nRegister in the Cartersville Library administration offices.\n\nCash and check payments only. Checks should be made out to class instructor.
X-ALT-DESC;FMTTYPE=text/html:<div style="text-align:center">Introduction to Italian language taught by Carla D&#39\;Avino. &nbsp\;Students will use familiar everyday expressions and simple sentences to satisfy conversation needs.</div>\n\n<div style="text-align:center">Registration and $13 class fee required (9 classes for $117.) &nbsp\;<br />\nRegister in the Cartersville Library administration offices.<br />\nCash and check payments only. Checks should be made out to class instructor.</div>\n
LOCATION:Cartersville Library 429 West Main St Cartersville\, GA 30120
UID:e.1202.168065
SEQUENCE:3
DTSTAMP:20260422T115304Z
URL:https://business.cartersvillechamber.com/events/details/basic-italian-language-class-02-27-2025-168065
END:VEVENT

END:VCALENDAR
