BEGIN:VCALENDAR
VERSION:2.0
PRODID:-//ChamberMaster//Event Calendar 2.0//EN
METHOD:PUBLISH
X-PUBLISHED-TTL:P3D
REFRESH-INTERVAL:P3D
CALSCALE:GREGORIAN
BEGIN:VEVENT
DTSTART:20241121T150000Z
DTEND:20241121T160000Z
X-MICROSOFT-CDO-ALLDAYEVENT:FALSE
SUMMARY:Basic Italian Language Class
DESCRIPTION:An introduction to Italian language taught by Carla D'Avino.  Students will use familiar everyday expressions and simple sentences to satisfy conversation needs.\n\nRegistration and $13 class fee required (9 classes for $117.)  \n\nRegister in the Cartersville Library administration offices.\n\nCash and check payments only. Checks should be made out to class instructor.
X-ALT-DESC;FMTTYPE=text/html:<div style="text-align:center">An introduction to Italian language taught by Carla D&#39\;Avino. &nbsp\;Students will use familiar everyday expressions and simple sentences to satisfy conversation needs.</div>\n\n<div style="text-align:center">Registration and $13 class fee required (9 classes for $117.) &nbsp\;<br />\nRegister in the Cartersville Library administration offices.<br />\nCash and check payments only. Checks should be made out to class instructor.</div>\n
LOCATION:Cartersville Library Classroom 429 West Main Street Cartersville GA 30120 US
UID:e.1202.166938
SEQUENCE:3
DTSTAMP:20260422T154909Z
URL:https://business.cartersvillechamber.com/events/details/basic-italian-language-class-11-21-2024-166938
END:VEVENT

END:VCALENDAR
