BEGIN:VCALENDAR
VERSION:2.0
PRODID:-//ChamberMaster//Event Calendar 2.0//EN
METHOD:PUBLISH
X-PUBLISHED-TTL:P3D
REFRESH-INTERVAL:P3D
CALSCALE:GREGORIAN
BEGIN:VEVENT
DTSTART:20241113T150000Z
DTEND:20241113T160000Z
X-MICROSOFT-CDO-ALLDAYEVENT:FALSE
SUMMARY:Basic Korean Language Class Level 1
DESCRIPTION:This course is suitable for beginners in Korean language or who have had very little contact with the Korean language. The program will teach basic Korean listening\, speaking\, writing and reading. Korean language and culture will be introduced throughout the course in a seamless manner.\n\nRegistration and $60 class fee required in advance.  Registration is in the library administration offices.\n\nCash and check payments only. Checks should be made out to class instructor (Ja Rim Jung).
X-ALT-DESC;FMTTYPE=text/html:<div style="text-align:center">This course is suitable for beginners in Korean language or who have had very little contact with the Korean language. The program will teach basic Korean listening\, speaking\, writing and reading. Korean language and culture will be introduced throughout the course in a seamless manner.</div>\n\n<div style="text-align:center">Registration and $60 class fee required in advance. &nbsp\;Registration is in the library administration offices.<br />\nCash and check payments only. Checks should be made out to class instructor (Ja Rim Jung).</div>\n
LOCATION:Cartersville Library Classroom 429 West Main Street Cartersville GA 30120 US
UID:e.1202.167349
SEQUENCE:3
DTSTAMP:20260422T154704Z
URL:https://business.cartersvillechamber.com/events/details/basic-korean-language-class-level-1-167349
END:VEVENT

END:VCALENDAR
