BEGIN:VCALENDAR
VERSION:2.0
PRODID:-//ChamberMaster//Event Calendar 2.0//EN
METHOD:PUBLISH
X-PUBLISHED-TTL:P3D
REFRESH-INTERVAL:P3D
CALSCALE:GREGORIAN
BEGIN:VEVENT
DTSTART:20250122T163000Z
DTEND:20250122T173000Z
X-MICROSOFT-CDO-ALLDAYEVENT:FALSE
SUMMARY:Basic Korean Language Class Level 2
DESCRIPTION:Level 2 class builds upon the level one class.  This course is suitable for beginners in Korean language or who have had very little contact with the Korean language. The program will teach basic Korean listening\, speaking\, writing and reading. Korean language and culture will be introduced throughout the course in a seamless manner.\n\nRegistration and $60 class fee required in advance.  Registration is in the library administration offices.\n\nCash and check payments only. Checks should be made out to class instructor (Ja Rim Jung).
X-ALT-DESC;FMTTYPE=text/html:<span style="color:rgb(62\, 62\, 62)\; font-family:system-ui\; font-size:12.8px">Level 2 class builds upon the level one class. &nbsp\;This course is suitable for beginners in Korean language or who have had very little contact with the Korean language. The program will teach basic Korean listening\, speaking\, writing and reading. Korean language and culture will be introduced throughout the course in a seamless manner.</span><br />\n<span style="color:rgb(62\, 62\, 62)\; font-family:system-ui\; font-size:12.8px">Registration and $60 class fee required in advance. &nbsp\;Registration is in the library administration offices.</span><br />\n<span style="color:rgb(62\, 62\, 62)\; font-family:system-ui\; font-size:12.8px">Cash and check payments only. Checks should be made out to class instructor (Ja Rim Jung).</span>
LOCATION:Cartersville Public Library Classroom 429 West Main St Cartersville\, GA 30120
UID:e.1202.167922
SEQUENCE:3
DTSTAMP:20260422T125851Z
URL:https://business.cartersvillechamber.com/events/details/basic-korean-language-class-level-2-01-22-2025-167922
END:VEVENT

END:VCALENDAR
