BEGIN:VCALENDAR
VERSION:2.0
PRODID:-//ChamberMaster//Event Calendar 2.0//EN
METHOD:PUBLISH
X-PUBLISHED-TTL:P3D
REFRESH-INTERVAL:P3D
CALSCALE:GREGORIAN
BEGIN:VEVENT
DTSTART:20250412T160000Z
DTEND:20250413T000000Z
X-MICROSOFT-CDO-ALLDAYEVENT:FALSE
SUMMARY:BBQ and Brews Cartersville
DESCRIPTION:BBQ and Brews Cartersville\n\n\n\nSaturday\, April 12\, 2025\, 12 PM - 8 PM\n\nDowntown Cartersville\n\n\n\nOur biggest festival of the year is back to kickoff the spring in Downtown Cartersville. Stretching 4 city blocks\, there is nothing like BBQ and Brew Cartersville!\n\n\n\nJoin us on Saturday\, April 12th for a full day of fun for the family.\n\n\n\n- The best BBQ pitmasters in North Georgia!\n\n- 150+ retail vendors\n\n- Live music all day\n\n- Kids Zone\n\n- Beer Trailers\n\n\n\nThis experience has quickly become one of the largest festivals in North Georgia and we can't wait to celebrate with you again on April 12th!\n\n\n\nVisit Downtown Cartersville's Facebook page to learn more.
X-ALT-DESC;FMTTYPE=text/html:<strong>BBQ and Brews Cartersville<br />\n<br />\nSaturday\, April 12\, 2025\, 12 PM - 8 PM<br />\nDowntown Cartersville</strong><br />\n<br />\nOur biggest festival of the year is back to kickoff the spring in Downtown Cartersville. Stretching 4 city blocks\, there is nothing like BBQ and Brew Cartersville!<br />\n<br />\nJoin us on Saturday\, April 12th for a full day of fun for the family.<br />\n<br />\n- The best BBQ pitmasters in North Georgia!<br />\n- 150+ retail vendors<br />\n- Live music all day<br />\n- Kids Zone<br />\n- Beer Trailers<br />\n<br />\nThis experience has quickly become one of the largest festivals in North Georgia and we can&#39\;t wait to celebrate with you again on April 12th!<br />\n<br />\nVisit&nbsp\;<a href="https://www.facebook.com/downtowncartersville/" target="_blank">Downtown Cartersville&#39\;s Facebook page</a> to learn more.
LOCATION:Downtown Cartersville 1 Friendship Plaza Cartersville\, GA 30120
UID:e.1202.168415
SEQUENCE:3
DTSTAMP:20260422T091849Z
URL:https://business.cartersvillechamber.com/events/details/bbq-and-brews-cartersville-168415
END:VEVENT

END:VCALENDAR
